Workbook

Sheet Introduction
A1: Purpose: This optional workbook is designed to help you gather information you will be asked as part of the 2027 Farm to School Census in spring 2027. It will assist you to more quickly complete the survey.
A2: Instructions: Use this tool to gather information from schools, other departments, staff, partners, and/or vendors before filling out the Census. The 2027 Farm to School Census will ask for information about the 2026-27 school year. You can use this tool to track information throughout the school year or as you prepare to complete the Census in spring 2027. You can and should complete the Census even if you don't have all of the requested information or don't have exact figures. You may discard this workbook after you complete the Census. For more information on the Farm to School Census, visit https://www.fns.usda.gov/f2s/census/resources. If you have questions, please reach out to us at cnsurveys@usda.gov.
A3: This information is being collected to assist the Food and Nutrition Administration in understanding and tracking farm to school engagement. This is a mandatory collection and FNS will use the information to set priorities for USDA outreach and technical support. This collection does not request any personally identifiable information under the Privacy Act of 1974. According to the Paperwork Reduction Act of 1995, an agency may not conduct or sponsor, and a person is not required to respond to, a collection of information unless it displays a valid OMB control number. The valid OMB control number for this information collection is 0584-0646. The time required to complete this information collection is estimated to average .5 hours per response, including the time for reviewing instructions, searching existing data sources, gathering and maintaining the data needed, and completing and reviewing the collection of information. Send comments regarding this burden estimate or any other aspect of this collection of information, including suggestions for reducing this burden, to: U.S. Department of Agriculture, Food and Nutrition Administration, Evidence, Analysis, and Regulatory Affairs Office, 5601 Sunnyside Avenue, Beltsville, MD 20705 ATTN: PRA (0584-0646). Do not return the completed form to this address.

Sheet Census Team
A1: Purpose: Completing the Farm to School Census may require input from more than one person. Use this worksheet to identify the key partners who contribute to farm to school activities. As you complete the Census, stay in touch with this team when you encounter questions outside your immediate expertise. (See more about building your Farm to School Census team at https://www.fns.usda.gov/f2s/census/resources. This worksheet will also help you respond to the final question on the Census survey: Who filled out this survey?
A2: Role | B2: Name | C2: Email
A3: SFA/food service director
A4: SFA procurement specialist
A5: Garden coordinator
A6: Other SFA-level staff member (e.g., business manager, superintendent)
A7: Farm to school or garden coordinator
A8: Cafeteria manager or cafeteria staff member
A9: Teacher or principal
A10: Other school-level staff member
A11: Partner organization
A12: Other
A13: End of worksheet

Sheet Tracker-Monthly Food Spending 
A1: Purpose: This worksheet will help you track information to respond to Census questions 45 and 46 about your food spending in SY 2026-27. If you track monthly food spending in this worksheet, this excel document will use the information to automatically calculate responses to Census questions 45 and 46.
A2: Instructions: At the end of each month, enter your actual or estimated 1) total food spending and 2) total spending on USDA Department of Defense Fresh Fruit and Vegetable Program (DoD Fresh). Delete the numbers in the table (columns B and C) before you begin; these are examples are to show examples of what your table might look like.
A3: Month | B3: Total food spending | C3: Total spending on USDA DoD Fresh
A4: July 2026 | B4: 3500 | C4: 300
A5: August 2026 | B5: 100000 | C5: 20000
A6: September 2026 | B6: 50000 | C6: 10000
A7: October 2026 | B7: 4500 | C7: 1000
A8: November 2026
A9: December 2026
A10: January 2027
A11: February 2027
A12: March 2027
A13: April 2027
A14: May 2027
A15: June 2027
A16: End of worksheet

Sheet Tracker-Local Purchases
A1: Purpose: This worksheet will help you track information to respond to Census questions 36-37 and 47-61 about your local food purchases in SY 2026-27. If you track local food purchases in this worksheet, this excel document will use the information to automatically calculate responses to Census questions 36-37 and 47-61.
A2: Instructions: As you purchase local items, put the item type, amount spent, and source in this worksheet. The item and source cells have drop down lists to choose from. If you purchased an item that is not in the drop down list, choose "Other" and specify what it was in column B. The purchase date is optional to help you keep track; the Census will not ask for that information.
A3: Definitions for the "source" column: Individual food producer: A producer such as a farmer, rancher, fisher, including but not limited to a farmers’ market or CSA model, or cooperative of producers. Food hub: A centrally located facility that aggregates, stores, processes, distributes, and/or markets locally/regionally produced food products. Local food processor or manufacturer: A business or organization that manufactures a food item or otherwise changes the physical characteristics of a food (e.g., by drying, cutting, freezing) and meets the SFA’s definition for local. Large discount store: A store such as Costco or Sam's Club. School or community garden/farm: Can be any indoor or outdoor space where students or other school or community members tend to edible plants. This can include raised beds, hydroponic systems, and tower or container gardens. Produce distributor: A foodservice company specializing in sales of wholesale fruits and vegetables to schools and other foodservice operators. Broadline distributor: A foodservice company that sells a wide range of types of items for use in foodservice operations. USDA DoD Fresh Vendor: A vendor accessed through the USDA Department of Defense Fresh Fruit and Vegetable Program which allows schools to use entitlement dollars to buy fresh produce. SFAs access this program through FFAVORS.
A4: Local item | B4: If item is "Other," specify item | C4: Amount spent | D4: Source | E4: Purchase date (optional)
A5: Cheese, including cottage cheese | C5: 0 | D5: Broadline distributor | E5: 46261
A6: Fluid milk | C6: 10000 | D6: Local food processor or manufacturer | E6: 46261
A7: Flour | C7: 4500 | D7: USDA DoD Fresh vendor | E7: 46264
A8: Eggs | C8: 5000 | D8: Food hub | E8: 46266
A9: Strawberries | C9: 0 | D9: Individual food producer | E9: 46270
A10: Fluid milk | C10: 11000 | D10: Broadline distributor | E10: 46280
A11: Fluid milk | C11: 10000 | D11: Broadline distributor | E11: 46295
A12: Apples | C12: 2000 | D12: USDA DoD Fresh vendor | E12: 46300
A13: Beef | C13: 0 | D13: Individual food producer | E13: 46305
A14: Pineapple | C14: 3000 | D14: Food hub
A15: Grapes | C15: 450 | D15: Individual food producer
A16: Dragon fruit | C16: 12 | D16: USDA DoD Fresh vendor
A17: Fluid milk | C17: 25 | D17: Individual food producer
A504: End of worksheet

Sheet Number of Schools
A1: Purpose: This worksheet will help you gather information to respond to Census question 7: How many schools of each type were there in your SFA during SY 2026-27?
A2: Type of school | B2: Number of schools
A3: Public non-charter schools
A4: Public charter schools
A5: Private schools
A6: Residential childcare institutions
A7: End of worksheet

Sheet Number of Gardens
A1: Purpose: This worksheet will help you gather information to respond to Census question 22: To the best of your knowledge, approximately how many schools in your SFA had edible school gardens or farms during SY 2026-27?
A2: Number of schools with edible school gardens or farms
A4: End of worksheet

Sheet Number of Staff
A1: Purpose: This worksheet will help you gather information to respond to Census question 27: To the best of your knowledge, in SY 2026-27, how many staff in your SFA, schools, and district (e.g., food service staff, garden educators, AmeriCorps members, teachers) spent time on farm to school activities? Please only include paid staff, including any contracted and grant-funded staff.
A2: Definitions: Full-time: Working at least 40 hours in one week. Part-time: Working fewer than 40 hours in one week.
A3: Type of staff | B3: Number of staff
A4: Number of full-time staff whose job is dedicated to farm to school activities
A5: Number of staff (including full-time AND part-time staff) who use some portion of their time for farm to school activities but whose job is not fully dedicated to farm to school activities
A6: End of worksheet

Sheet Local Food Sources
A1: Purpose: This worksheet will help you gather information to respond to Census questions 22 and 23. Census question 36: For SY 2026-27, please indicate if your SFA procured local foods from any of the following sources. (Please choose all that apply.) Census question 37: In SY 2026-27, what percent of your local purchasing (based on the dollars spent) came from each of the sources you selected? Your best estimate is fine.
A2: Instructions: This table will automatically populate if you enter information in the local purchases tracker worksheet. If you don't use the local purchases tracker worksheet, you can manually enter the information so you have it ready when completing your Census.
A3: Definitions for the "source" column: Individual food producer: A producer such as a farmer, rancher, fisher, including but not limited to a farmers’ market or CSA model, or cooperative of producers. Food hub: A centrally located facility that aggregates, stores, processes, distributes, and/or markets locally/regionally produced food products. Local food processor or manufacturer: A business or organization that manufactures a food item or otherwise changes the physical characteristics of a food (e.g., by drying, cutting, freezing) and meets the SFA’s definition for local. Large discount store: A store such as Costco or Sam's Club. School or community garden/farm: Can be any indoor or outdoor space where students or other school or community members tend to edible plants. This can include raised beds, hydroponic systems, and tower or container gardens. Produce distributor: A foodservice company specializing in sales of wholesale fruits and vegetables to schools and other foodservice operators. Broadline distributor: A foodservice company that sells a wide range of types of items for use in foodservice operations. USDA DoD Fresh Vendor: A vendor accessed through the USDA Department of Defense Fresh Fruit and Vegetable Program which allows schools to use entitlement dollars to buy fresh produce. SFAs access this program through FFAVORS.
A4: Possible local food sources | B4: Used this source? | C4: Spending SY26-27 | D4: Percentage of local spending
A5: Individual food producer | B5: =IF(C5>0,"Yes","") -> Yes | C5: =SUMIF('Tracker-Local Purchases'!D:D,A5,'Tracker-Local Purchases'!C:C) -> 475 | D5: =IFERROR((C5/'Total Food Spending'!$B$5),"") -> 0.010329006
A6: Food hub | B6: =IF(C6>0,"Yes","") -> Yes | C6: =SUMIF('Tracker-Local Purchases'!D:D,A6,'Tracker-Local Purchases'!C:C) -> 8000 | D6: =IFERROR((C6/'Total Food Spending'!$B$5),"") -> 0.17396221
A7: Local food processor or manufacturer | B7: =IF(C7>0,"Yes","") -> Yes | C7: =SUMIF('Tracker-Local Purchases'!D:D,A7,'Tracker-Local Purchases'!C:C) -> 10000 | D7: =IFERROR((C7/'Total Food Spending'!$B$5),"") -> 0.21745276
A8: Grocery store or large discount store | B8: =IF(C8>0,"Yes","") | C8: =SUMIF('Tracker-Local Purchases'!D:D,A8,'Tracker-Local Purchases'!C:C) -> 0 | D8: =IFERROR((C8/'Total Food Spending'!$B$5),"") -> 0
A9: School or community garden/farm | B9: =IF(C9>0,"Yes","") | C9: =SUMIF('Tracker-Local Purchases'!D:D,A9,'Tracker-Local Purchases'!C:C) -> 0 | D9: =IFERROR((C9/'Total Food Spending'!$B$5),"") -> 0
A10: Produce distributor | B10: =IF(C10>0,"Yes","") | C10: =SUMIF('Tracker-Local Purchases'!D:D,A10,'Tracker-Local Purchases'!C:C) -> 0 | D10: =IFERROR((C10/'Total Food Spending'!$B$5),"") -> 0
A11: Broadline distributor | B11: =IF(C11>0,"Yes","") -> Yes | C11: =SUMIF('Tracker-Local Purchases'!D:D,A11,'Tracker-Local Purchases'!C:C) -> 21000 | D11: =IFERROR((C11/'Total Food Spending'!$B$5),"") -> 0.45665079
A12: USDA DoD Fresh vendor | B12: =IF(C12>0,"Yes","") -> Yes | C12: =SUMIF('Tracker-Local Purchases'!D:D,A12,'Tracker-Local Purchases'!C:C) -> 6512 | D12: =IFERROR((C12/'Total Food Spending'!$B$5),"") -> 0.14160524
A13: Other | B13: =IF(C13>0,"Yes","") | C13: =SUMIF('Tracker-Local Purchases'!D:D,A13,'Tracker-Local Purchases'!C:C) -> 0 | D13: =IFERROR((C13/'Total Food Spending'!$B$5),"") -> 0
A14: End of worksheet

Sheet Total Food Spending
A1: Purpose: This worksheet will help you gather information to respond to Census questions 45 and 46. DoD Fresh refers to the USDA Department of Defense Fresh Fruit and Vegetable Program. Census question 45: The following questions ask how much money your SFA spent on food and local food during SY 2026-27. Please include ALL food spending (including use of entitlement funds, i.e., USDA Foods and DoD Fresh). Please give your best approximation. Please round to the nearest dollar. Census question 46: The following questions ask how much money your SFA spent on food and local food using USDA DoD Fresh during SY 2026-27. Please give your best approximation. Please round to the nearest dollar.
A2: Instructions: This table will automatically populate if you enter information in both of the tracker worksheets. If you don't use the tracker worksheets, you can manually enter the information so you have it ready when completing your Census.
A3: Type of spending | B3: Amount spent
A4: Total food spending | B4: =SUM('Tracker-Monthly Food Spending '!B4, 'Tracker-Monthly Food Spending '!B5,'Tracker-Monthly Food Spending '!B6,'Tracker-Monthly Food Spending '!B7,'Tracker-Monthly Food Spending '!B8,'Tracker-Monthly Food Spending '!B9,'Tracker-Monthly Food Spending '!B10,'Tracker-Monthly Food Spending '!B11,'Tracker-Monthly Food Spending '!B12,'Tracker-Monthly Food Spending '!B13,'Tracker-Monthly Food Spending '!B14,'Tracker-Monthly Food Spending '!B15) -> 158000
A5: Spending on local food, including fluid milk | B5: =SUM('Tracker-Local Purchases'!C:C) -> 45987
A6: Spending on local fluid milk | B6: ='Top Local Items'!B24 -> 31025
A7: Total spending on USDA DoD Fresh | B7: =SUM('Tracker-Monthly Food Spending '!C4,'Tracker-Monthly Food Spending '!C5,'Tracker-Monthly Food Spending '!C6,'Tracker-Monthly Food Spending '!C7,'Tracker-Monthly Food Spending '!C8,'Tracker-Monthly Food Spending '!C9,'Tracker-Monthly Food Spending '!C10,'Tracker-Monthly Food Spending '!C11,'Tracker-Monthly Food Spending '!C12,'Tracker-Monthly Food Spending '!C13,'Tracker-Monthly Food Spending '!C14,'Tracker-Monthly Food Spending '!C15) -> 31300
A8: Spending on local food through USDA DoD Fresh | B8: ='Local Food Sources'!C12 -> 6512
A9: End of worksheet

Sheet Top Local Items Sources
A1: Purpose: This worksheet will help you gather information to respond to Census questions 47 through 61, which ask about the top five local items your SFA purchased and their sources. There are ten tables on this sheet, which are labeled by Census question and separated with blank rows.
A2: Instructions: This table will automatically populate if you enter information in both of the tracker worksheets. If you don't use the tracker worksheets, you can manually enter the information so you have it ready when completing your Census.
A3: Definitions for the "source" column: Individual food producer: A producer such as a farmer, rancher, fisher, including but not limited to a farmers’ market or CSA model, or cooperative of producers. Food hub: A centrally located facility that aggregates, stores, processes, distributes, and/or markets locally/regionally produced food products. Local food processor or manufacturer: A business or organization that manufactures a food item or otherwise changes the physical characteristics of a food (e.g., by drying, cutting, freezing) and meets the SFA’s definition for local. Large discount store: A store such as Costco or Sam's Club. School or community garden/farm: Can be any indoor or outdoor space where students or other school or community members tend to edible plants. This can include raised beds, hydroponic systems, and tower or container gardens. Produce distributor: A foodservice company specializing in sales of wholesale fruits and vegetables to schools and other foodservice operators. Broadline distributor: A foodservice company that sells a wide range of types of items for use in foodservice operations. USDA DoD Fresh Vendor: A vendor accessed through the USDA Department of Defense Fresh Fruit and Vegetable Program which allows schools to use entitlement dollars to buy fresh produce. SFAs access this program through FFAVORS.
A4: Census question 47: In SY 2026-2027, what local item, of any type and in any form, did your SFA spend the most on?
A5: Local item your SFA spent the most on
A6: =IFERROR(_xlfn.XLOOKUP(LARGE('Top Local Items'!D:D,1),'Top Local Items'!D:D,'Top Local Items'!C:C,0,1),"None") -> Fluid milk
A8: Census question 49: In SY 2026-27, from what source(s) did your SFA purchase that local item?
A9: Possible local food sources | B9: Spending SY26-27 | C9: Used this source?
A10: Individual food producer | B10: =SUMIFS('Tracker-Local Purchases'!C:C,'Tracker-Local Purchases'!A:A,$A$6,'Tracker-Local Purchases'!D:D,A10) -> 25 | C10: =IF(B10>0,"Yes","") -> Yes
A11: Food hub | B11: =SUMIFS('Tracker-Local Purchases'!C:C,'Tracker-Local Purchases'!A:A,$A$6,'Tracker-Local Purchases'!D:D,A11) -> 0 | C11: =IF(B11>0,"Yes","")
A12: Local food processor or manufacturer | B12: =SUMIFS('Tracker-Local Purchases'!C:C,'Tracker-Local Purchases'!A:A,$A$6,'Tracker-Local Purchases'!D:D,A12) -> 10000 | C12: =IF(B12>0,"Yes","") -> Yes
A13: Grocery store or large discount store | B13: =SUMIFS('Tracker-Local Purchases'!C:C,'Tracker-Local Purchases'!A:A,$A$6,'Tracker-Local Purchases'!D:D,A13) -> 0 | C13: =IF(B13>0,"Yes","")
A14: School or community garden/farm | B14: =SUMIFS('Tracker-Local Purchases'!C:C,'Tracker-Local Purchases'!A:A,$A$6,'Tracker-Local Purchases'!D:D,A14) -> 0 | C14: =IF(B14>0,"Yes","")
A15: Produce distributor | B15: =SUMIFS('Tracker-Local Purchases'!C:C,'Tracker-Local Purchases'!A:A,$A$6,'Tracker-Local Purchases'!D:D,A15) -> 0 | C15: =IF(B15>0,"Yes","")
A16: Broadline distributor | B16: =SUMIFS('Tracker-Local Purchases'!C:C,'Tracker-Local Purchases'!A:A,$A$6,'Tracker-Local Purchases'!D:D,A16) -> 21000 | C16: =IF(B16>0,"Yes","") -> Yes
A17: USDA DoD Fresh vendor | B17: =SUMIFS('Tracker-Local Purchases'!C:C,'Tracker-Local Purchases'!A:A,$A$6,'Tracker-Local Purchases'!D:D,A17) -> 0 | C17: =IF(B17>0,"Yes","")
A18: Other | B18: =SUMIFS('Tracker-Local Purchases'!C:C,'Tracker-Local Purchases'!A:A,$A$6,'Tracker-Local Purchases'!D:D,A18) -> 0 | C18: =IF(B18>0,"Yes","")
A20: Census question 50: In SY 2026-2027, what local item, of any type and in any form, did your SFA spend the second most on?
A21: Local item your SFA spent the second most on
A22: =IFERROR(_xlfn.XLOOKUP(LARGE('Top Local Items'!D:D,2),'Top Local Items'!D:D,'Top Local Items'!C:C,0,1),"None") -> Eggs
A24: Census question 52: In SY 2026-27, from what source(s) did your SFA purchase that local item?
A25: Possible local food sources | B25: Spending SY26-27 | C25: Used this source?
A26: Individual food producer | B26: =SUMIFS('Tracker-Local Purchases'!C:C,'Tracker-Local Purchases'!A:A,$A$22,'Tracker-Local Purchases'!D:D,A26) -> 0 | C26: =IF(B26>0,"Yes","")
A27: Food hub | B27: =SUMIFS('Tracker-Local Purchases'!C:C,'Tracker-Local Purchases'!A:A,$A$22,'Tracker-Local Purchases'!D:D,A27) -> 5000 | C27: =IF(B27>0,"Yes","") -> Yes
A28: Local food processor or manufacturer | B28: =SUMIFS('Tracker-Local Purchases'!C:C,'Tracker-Local Purchases'!A:A,$A$22,'Tracker-Local Purchases'!D:D,A28) -> 0 | C28: =IF(B28>0,"Yes","")
A29: Grocery store or large discount store | B29: =SUMIFS('Tracker-Local Purchases'!C:C,'Tracker-Local Purchases'!A:A,$A$22,'Tracker-Local Purchases'!D:D,A29) -> 0 | C29: =IF(B29>0,"Yes","")
A30: School or community garden/farm | B30: =SUMIFS('Tracker-Local Purchases'!C:C,'Tracker-Local Purchases'!A:A,$A$22,'Tracker-Local Purchases'!D:D,A30) -> 0 | C30: =IF(B30>0,"Yes","")
A31: Produce distributor | B31: =SUMIFS('Tracker-Local Purchases'!C:C,'Tracker-Local Purchases'!A:A,$A$22,'Tracker-Local Purchases'!D:D,A31) -> 0 | C31: =IF(B31>0,"Yes","")
A32: Broadline distributor | B32: =SUMIFS('Tracker-Local Purchases'!C:C,'Tracker-Local Purchases'!A:A,$A$22,'Tracker-Local Purchases'!D:D,A32) -> 0 | C32: =IF(B32>0,"Yes","")
A33: USDA DoD Fresh vendor | B33: =SUMIFS('Tracker-Local Purchases'!C:C,'Tracker-Local Purchases'!A:A,$A$22,'Tracker-Local Purchases'!D:D,A33) -> 0 | C33: =IF(B33>0,"Yes","")
A34: Other | B34: =SUMIFS('Tracker-Local Purchases'!C:C,'Tracker-Local Purchases'!A:A,$A$22,'Tracker-Local Purchases'!D:D,A34) -> 0 | C34: =IF(B34>0,"Yes","")
A36: Census question 53: In SY 2026-2027, what local item, of any type and in any form, did your SFA spend the third most on?
A37: Local item your SFA spent the third most on
A38: =IFERROR(_xlfn.XLOOKUP(LARGE('Top Local Items'!D:D,3),'Top Local Items'!D:D,'Top Local Items'!C:C,0,1),"None") -> Flour
A40: Census question 55: In SY 2026-27, from what source(s) did your SFA purchase that local item?
A41: Possible local food sources | B41: Spending SY26-27 | C41: Used this source?
A42: Individual food producer | B42: =SUMIFS('Tracker-Local Purchases'!C:C,'Tracker-Local Purchases'!A:A,$A$38,'Tracker-Local Purchases'!D:D,A42) -> 0 | C42: =IF(B42>0,"Yes","")
A43: Food hub | B43: =SUMIFS('Tracker-Local Purchases'!C:C,'Tracker-Local Purchases'!A:A,$A$38,'Tracker-Local Purchases'!D:D,A43) -> 0 | C43: =IF(B43>0,"Yes","")
A44: Local food processor or manufacturer | B44: =SUMIFS('Tracker-Local Purchases'!C:C,'Tracker-Local Purchases'!A:A,$A$38,'Tracker-Local Purchases'!D:D,A44) -> 0 | C44: =IF(B44>0,"Yes","")
A45: Grocery store or large discount store | B45: =SUMIFS('Tracker-Local Purchases'!C:C,'Tracker-Local Purchases'!A:A,$A$38,'Tracker-Local Purchases'!D:D,A45) -> 0 | C45: =IF(B45>0,"Yes","")
...

Sheet Reference
A1: Purpose: This worksheet works in the background to populate the drop down lists in the worksheet called "Tracker-Local Purchases." Do not delete or modify this worksheet.
A2: Possible items | B2: Possible local food sources
A3: Apples | B3: Individual food producer
A4: Bananas | B4: Food hub
A5: Dragon fruit | B5: Local food processor or manufacturer
A6: Grapes | B6: Grocery store or large discount store
A7: Oranges or other citrus | B7: School or community garden/farm
A8: Peaches | B8: Produce distributor
A9: Pears | B9: Broadline distributor
A10: Pineapple | B10: USDA DoD Fresh vendor
A11: Strawberries | B11: Other
A12: Watermelon
A13: Bell peppers
A14: Broccoli
A15: Carrots
A16: Collard greens
A17: Corn
A18: Cucumber
A19: Lettuce
A20: Potatoes (not sweet potatoes)
A21: Salad Mix
A22: Tomatoes
A23: Zucchini/Summer squash
... A44: End of worksheet

Sheet Top Local Items
A1: Purpose: This worksheet works in the background to populalte some of the responses in the worksheets called "Total Food Spending" and "Top Local Items & Sources." Do not delete or modify this worksheet.
A2: Local item | B2: Total SY26-27 spending | C2: {=_xlfn._xlws.FILTER(A:B,B:B>0)} -> Local item | D2: Total SY26-27 spending
A3: =Reference!A3 -> Apples | B3: =SUMIF('Tracker-Local Purchases'!A:A,'Top Local Items'!A3,'Tracker-Local Purchases'!C:C) -> 2000 | C3: Apples | D3: 2000
A4: =Reference!A4 -> Bananas | B4: =SUMIF('Tracker-Local Purchases'!A:A,'Top Local Items'!A4,'Tracker-Local Purchases'!C:C) -> 0 | C4: Dragon fruit | D4: 12
A5: =Reference!A5 -> Dragon fruit | B5: =SUMIF('Tracker-Local Purchases'!A:A,'Top Local Items'!A5,'Tracker-Local Purchases'!C:C) -> 12 | C5: Grapes | D5: 450
A6: =Reference!A6 -> Grapes | B6: =SUMIF('Tracker-Local Purchases'!A:A,'Top Local Items'!A6,'Tracker-Local Purchases'!C:C) -> 450 | C6: Pineapple | D6: 3000
A7: =Reference!A7 -> Oranges or other citrus | B7: =SUMIF('Tracker-Local Purchases'!A:A,'Top Local Items'!A7,'Tracker-Local Purchases'!C:C) -> 0 | C7: Fluid milk | D7: 31025
A8: =Reference!A8 -> Peaches | B8: =SUMIF('Tracker-Local Purchases'!A:A,'Top Local Items'!A8,'Tracker-Local Purchases'!C:C) -> 0 | C8: Eggs | D8: 5000
A9: =Reference!A9 -> Pears | B9: =SUMIF('Tracker-Local Purchases'!A:A,'Top Local Items'!A9,'Tracker-Local Purchases'!C:C) -> 0 | C9: Flour | D9: 4500
A10: =Reference!A10 -> Pineapple | B10: =SUMIF('Tracker-Local Purchases'!A:A,'Top Local Items'!A10,'Tracker-Local Purchases'!C:C) -> 3000
A11: =Reference!A11 -> Strawberries | B11: =SUMIF('Tracker-Local Purchases'!A:A,'Top Local Items'!A11,'Tracker-Local Purchases'!C:C) -> 0
A12: =Reference!A12 -> Watermelon | B12: =SUMIF('Tracker-Local Purchases'!A:A,'Top Local Items'!A12,'Tracker-Local Purchases'!C:C) -> 0
A13: =Reference!A13 -> Bell peppers | B13: =SUMIF('Tracker-Local Purchases'!A:A,'Top Local Items'!A13,'Tracker-Local Purchases'!C:C) -> 0
A14: =Reference!A14 -> Broccoli | B14: =SUMIF('Tracker-Local Purchases'!A:A,'Top Local Items'!A14,'Tracker-Local Purchases'!C:C) -> 0
A15: =Reference!A15 -> Carrots | B15: =SUMIF('Tracker-Local Purchases'!A:A,'Top Local Items'!A15,'Tracker-Local Purchases'!C:C) -> 0
A16: =Reference!A16 -> Collard greens | B16: =SUMIF('Tracker-Local Purchases'!A:A,'Top Local Items'!A16,'Tracker-Local Purchases'!C:C) -> 0
A17: =Reference!A17 -> Corn | B17: =SUMIF('Tracker-Local Purchases'!A:A,'Top Local Items'!A17,'Tracker-Local Purchases'!C:C) -> 0
A18: =Reference!A18 -> Cucumber | B18: =SUMIF('Tracker-Local Purchases'!A:A,'Top Local Items'!A18,'Tracker-Local Purchases'!C:C) -> 0
A19: =Reference!A19 -> Lettuce | B19: =SUMIF('Tracker-Local Purchases'!A:A,'Top Local Items'!A19,'Tracker-Local Purchases'!C:C) -> 0
A20: =Reference!A20 -> Potatoes (not sweet potatoes) | B20: =SUMIF('Tracker-Local Purchases'!A:A,'Top Local Items'!A20,'Tracker-Local Purchases'!C:C) -> 0
A21: =Reference!A21 -> Salad Mix | B21: =SUMIF('Tracker-Local Purchases'!A:A,'Top Local Items'!A21,'Tracker-Local Purchases'!C:C) -> 0
... A43: =Reference!A43 -> Other | B43: =SUMIF('Tracker-Local Purchases'!A:A,'Top Local Items'!A43,'Tracker-Local Purchases'!C:C) -> 0
A44: End of worksheet
