Workbook

Sheet Introduction
A1: Note on WIC Agency Level Monthly Spreadsheets
A3: This file contains monthly data for the selected fiscal year for each WIC State agency i.e. geographic state,
A4: Indian tribal organization, and territory.
A7: Sixteen spreadsheets are included in the following order:
A8: Pregnant Women
A9: Women Fully Breastfeeding
A10: Women Partially Breastfeeding
A11: Total Breastfeeding Women (includes fully breastfeeding and partially breastfeeding)
A12: Postpartum Women
A13: Total Women
A14: Infants Fully Breastfed
A15: Infants Partially Breastfed
... A26: Data as of October 09, 2026

Sheet Pregnant Women Participating
A1: WIC PROGRAM -- NUMBER OF PREGNANT WOMEN PARTICIPATING
A2: FISCAL YEAR 2026
A3: Data as of October 09, 2026
A5: State Agency or Indian Tribal Organization | B5: =DATE(RIGHT(A2,4)-1,10,1) -> 45931 | C5: =DATE(RIGHT(A2,4)-1,11,1) -> 45962 | D5: =DATE(RIGHT(A2,4)-1,12,1) -> 45992 | E5: =DATE(RIGHT(A2,4),1,1) -> 46023 | F5: =DATE(RIGHT(A2,4),2,1) -> 46054 | G5: =DATE(RIGHT(A2,4),3,1) -> 46082 | H5: =DATE(RIGHT(A2,4),4,1) -> 46113 | I5: =DATE(RIGHT(A2,4),5,1) -> 46143 | J5: =DATE(RIGHT(A2,4),6,1) -> 46174 | K5: =DATE(RIGHT(A2,4),7,1) -> 46204 | L5: Average Participation
A6: Connecticut | B6: 4594 | C6: 4290 | D6: 4268 | E6: 4192 | F6: 4119 | G6: 4329 | H6: 4320 | I6: 4323 | J6: 4374 | K6: 4439 | L6: =IF(SUM(B6:K6)>0,AVERAGE(B6:K6)," ") -> 4324.8
A7: Maine | B7: 1521 | C7: 1440 | D7: 1384 | E7: 1399 | F7: 1353 | G7: 1414 | H7: 1449 | I7: 1461 | J7: 1458 | K7: 1491 | L7: =IF(SUM(B7:K7)>0,AVERAGE(B7:K7)," ") -> 1437
A8: Massachusetts | B8: 8548 | C8: 8452 | D8: 8244 | E8: 8209 | F8: 8438 | G8: 8763 | H8: 8826 | I8: 8852 | J8: 9155 | K8: 9137 | L8: =IF(SUM(B8:K8)>0,AVERAGE(B8:K8)," ") -> 8662.4
A9: New Hampshire | B9: 859 | C9: 831 | D9: 844 | E9: 839 | F9: 851 | G9: 915 | H9: 956 | I9: 968 | J9: 945 | K9: 948 | L9: =IF(SUM(B9:K9)>0,AVERAGE(B9:K9)," ") -> 895.6
A10: New York | B10: 31298 | C10: 29922 | D10: 29457 | E10: 29612 | F10: 29391 | G10: 30859 | H10: 31478 | I10: 31753 | J10: 31534 | K10: 31817 | L10: =IF(SUM(B10:K10)>0,AVERAGE(B10:K10)," ") -> 30712.1
A11: Rhode Island | B11: 1314 | C11: 1192 | D11: 1194 | E11: 1230 | F11: 1170 | G11: 1270 | H11: 1355 | I11: 1357 | J11: 1373 | K11: 1385 | L11: =IF(SUM(B11:K11)>0,AVERAGE(B11:K11)," ") -> 1284
A12: Vermont | B12: 736 | C12: 721 | D12: 724 | E12: 732 | F12: 754 | G12: 775 | H12: 806 | I12: 835 | J12: 819 | K12: 802 | L12: =IF(SUM(B12:K12)>0,AVERAGE(B12:K12)," ") -> 770.4
A13: Virgin Islands | B13: 163 | C13: 177 | D13: 153 | E13: 138 | F13: 122 | G13: 134 | H13: 131 | I13: 136 | J13: 155 | K13: 0 | L13: =IF(SUM(B13:K13)>0,AVERAGE(B13:K13)," ") -> 130.9
A14: Pleasant Point, ME | B14: 6 | C14: 8 | D14: 8 | E14: 7 | F14: 6 | G14: 4 | H14: 4 | I14: 5 | J14: 4 | K14: 0 | L14: =IF(SUM(B14:K14)>0,AVERAGE(B14:K14)," ") -> 5.2
A15: Northeast Region | B15: 49039 | C15: 47033 | D15: 46276 | E15: 46358 | F15: 46204 | G15: 48463 | H15: 49325 | I15: 49690 | J15: 49817 | K15: 50019 | L15: =IF(SUM(B15:K15)>0,AVERAGE(B15:K15)," ") -> 48222.4
A16: Delaware | B16: 1842 | C16: 1766 | D16: 1789 | E16: 1771 | F16: 1751 | G16: 1813 | H16: 1777 | I16: 1828 | J16: 1924 | K16: 1965 | L16: =IF(SUM(B16:K16)>0,AVERAGE(B16:K16)," ") -> 1822.6
A17: District of Columbia | B17: 864 | C17: 829 | D17: 775 | E17: 720 | F17: 744 | G17: 773 | H17: 794 | I17: 802 | J17: 793 | K17: 823 | L17: =IF(SUM(B17:K17)>0,AVERAGE(B17:K17)," ") -> 791.7
... A101: TOTAL | B101: 548088 | C101: 517216 | D101: 501971 | E101: 501218 | F101: 503698 | G101: 519161 | H101: 527705 | I101: 530710 | J101: 537764 | K101: 542850 | L101: =IF(SUM(B101:K101)>0,AVERAGE(B101:K101)," ") -> 523038.1
A104: All data are preliminary and are subject to revision.

Sheet Women Fully Breastfeeding
A1: WIC PROGRAM -- Women Fully Breastfeeding
A2: ='Pregnant Women Participating'!A2 -> FISCAL YEAR 2026
A3: ='Pregnant Women Participating'!A3 -> Data as of October 09, 2026
A5: State Agency or Indian Tribal Organization | B5: =DATE(RIGHT(A2,4)-1,10,1) -> 45931 | C5: =DATE(RIGHT(A2,4)-1,11,1) -> 45962 | D5: =DATE(RIGHT(A2,4)-1,12,1) -> 45992 | E5: =DATE(RIGHT(A2,4),1,1) -> 46023 | F5: =DATE(RIGHT(A2,4),2,1) -> 46054 | G5: =DATE(RIGHT(A2,4),3,1) -> 46082 | H5: =DATE(RIGHT(A2,4),4,1) -> 46113 | I5: =DATE(RIGHT(A2,4),5,1) -> 46143 | J5: =DATE(RIGHT(A2,4),6,1) -> 46174 | K5: =DATE(RIGHT(A2,4),7,1) -> 46204 | L5: Average Participation
A6: ='Pregnant Women Participating'!A6 -> Connecticut | B6: 1631 | C6: 1632 | D6: 1590 | E6: 1554 | F6: 1533 | G6: 1556 | H6: 1579 | I6: 1569 | J6: 1533 | K6: 1479 | L6: =IF(SUM(B6:K6)>0,AVERAGE(B6:K6),"0") -> 1565.6
A7: ='Pregnant Women Participating'!A7 -> Maine | B7: 993 | C7: 956 | D7: 935 | E7: 956 | F7: 972 | G7: 979 | H7: 998 | I7: 999 | J7: 999 | K7: 962 | L7: =IF(SUM(B7:K7)>0,AVERAGE(B7:K7),"0") -> 974.9
A8: ='Pregnant Women Participating'!A8 -> Massachusetts | B8: 4133 | C8: 4048 | D8: 4006 | E8: 3966 | F8: 3889 | G8: 3931 | H8: 3963 | I8: 3955 | J8: 3936 | K8: 3928 | L8: =IF(SUM(B8:K8)>0,AVERAGE(B8:K8),"0") -> 3975.5
A9: ='Pregnant Women Participating'!A9 -> New Hampshire | B9: 662 | C9: 650 | D9: 628 | E9: 649 | F9: 635 | G9: 639 | H9: 643 | I9: 661 | J9: 672 | K9: 664 | L9: =IF(SUM(B9:K9)>0,AVERAGE(B9:K9),"0") -> 650.3
A10: ='Pregnant Women Participating'!A10 -> New York | B10: 14912 | C10: 14777 | D10: 14636 | E10: 14582 | F10: 14660 | G10: 14758 | H10: 14681 | I10: 14574 | J10: 14519 | K10: 14367 | L10: =IF(SUM(B10:K10)>0,AVERAGE(B10:K10),"0") -> 14646.6
A11: ='Pregnant Women Participating'!A11 -> Rhode Island | B11: 550 | C11: 539 | D11: 529 | E11: 539 | F11: 506 | G11: 523 | H11: 517 | I11: 492 | J11: 485 | K11: 481 | L11: =IF(SUM(B11:K11)>0,AVERAGE(B11:K11),"0") -> 516.1
A12: ='Pregnant Women Participating'!A12 -> Vermont | B12: 716 | C12: 724 | D12: 738 | E12: 737 | F12: 753 | G12: 760 | H12: 770 | I12: 761 | J12: 754 | K12: 760 | L12: =IF(SUM(B12:K12)>0,AVERAGE(B12:K12),"0") -> 747.3
A13: ='Pregnant Women Participating'!A13 -> Virgin Islands | B13: 59 | C13: 48 | D13: 52 | E13: 49 | F13: 48 | G13: 43 | H13: 44 | I13: 39 | J13: 44 | K13: 0 | L13: =IF(SUM(B13:K13)>0,AVERAGE(B13:K13),"0") -> 42.6
A14: ='Pregnant Women Participating'!A14 -> Pleasant Point, ME | B14: 2 | C14: 1 | D14: 1 | E14: 1 | F14: 1 | G14: 3 | H14: 3 | I14: 3 | J14: 1 | K14: 0 | L14: =IF(SUM(B14:K14)>0,AVERAGE(B14:K14),"0") -> 1.6
A15: ='Pregnant Women Participating'!A15 -> Northeast Region | B15: 23658 | C15: 23375 | D15: 23115 | E15: 23033 | F15: 22997 | G15: 23192 | H15: 23198 | I15: 23053 | J15: 22943 | K15: 22641 | L15: =IF(SUM(B15:K15)>0,AVERAGE(B15:K15),"0") -> 23120.5
A16: ='Pregnant Women Participating'!A16 -> Delaware | B16: 572 | C16: 562 | D16: 564 | E16: 567 | F16: 576 | G16: 576 | H16: 562 | I16: 557 | J16: 560 | K16: 545 | L16: =IF(SUM(B16:K16)>0,AVERAGE(B16:K16),"0") -> 564.1
A17: ='Pregnant Women Participating'!A17 -> District of Columbia | B17: 312 | C17: 305 | D17: 307 | E17: 306 | F17: 292 | G17: 281 | H17: 265 | I17: 263 | J17: 270 | K17: 277 | L17: =IF(SUM(B17:K17)>0,AVERAGE(B17:K17),"0") -> 287.8
... A101: ='Pregnant Women Participating'!A101 -> TOTAL | B101: 265824 | C101: 260358 | D101: 257158 | E101: 255279 | F101: 254514 | G101: 256331 | H101: 255838 | I101: 253711 | J101: 251558 | K101: 251152 | L101: =IF(SUM(B101:K101)>0,AVERAGE(B101:K101),"0") -> 256172.3
A104: All data are preliminary and are subject to revision.

Sheet Women Partially Breastfeeding
A1: WIC PROGRAM -- Women Partially Breastfeeding
A2: ='Pregnant Women Participating'!A2 -> FISCAL YEAR 2026
A3: ='Pregnant Women Participating'!A3 -> Data as of October 09, 2026
A5: State Agency or Indian Tribal Organization | B5: =DATE(RIGHT(A2,4)-1,10,1) -> 45931 | C5: =DATE(RIGHT(A2,4)-1,11,1) -> 45962 | D5: =DATE(RIGHT(A2,4)-1,12,1) -> 45992 | E5: =DATE(RIGHT(A2,4),1,1) -> 46023 | F5: =DATE(RIGHT(A2,4),2,1) -> 46054 | G5: =DATE(RIGHT(A2,4),3,1) -> 46082 | H5: =DATE(RIGHT(A2,4),4,1) -> 46113 | I5: =DATE(RIGHT(A2,4),5,1) -> 46143 | J5: =DATE(RIGHT(A2,4),6,1) -> 46174 | K5: =DATE(RIGHT(A2,4),7,1) -> 46204 | L5: Average Participation
A6: ='Pregnant Women Participating'!A6 -> Connecticut | B6: 2936 | C6: 2870 | D6: 2831 | E6: 2817 | F6: 2756 | G6: 2735 | H6: 2819 | I6: 2796 | J6: 2760 | K6: 2739 | L6: =IF(SUM(B6:K6)>0,AVERAGE(B6:K6),"0") -> 2805.9
A7: ='Pregnant Women Participating'!A7 -> Maine | B7: 815 | C7: 801 | D7: 769 | E7: 788 | F7: 793 | G7: 791 | H7: 781 | I7: 766 | J7: 754 | K7: 739 | L7: =IF(SUM(B7:K7)>0,AVERAGE(B7:K7),"0") -> 779.7
A8: ='Pregnant Women Participating'!A8 -> Massachusetts | B8: 6961 | C8: 6718 | D8: 6685 | E8: 6533 | F8: 6420 | G8: 6517 | H8: 6433 | I8: 6415 | J8: 6343 | K8: 6330 | L8: =IF(SUM(B8:K8)>0,AVERAGE(B8:K8),"0") -> 6535.5
A9: ='Pregnant Women Participating'!A9 -> New Hampshire | B9: 409 | C9: 415 | D9: 430 | E9: 417 | F9: 392 | G9: 402 | H9: 406 | I9: 393 | J9: 400 | K9: 419 | L9: =IF(SUM(B9:K9)>0,AVERAGE(B9:K9),"0") -> 408.3
A10: ='Pregnant Women Participating'!A10 -> New York | B10: 36336 | C10: 35990 | D10: 35888 | E10: 35805 | F10: 35595 | G10: 35634 | H10: 35758 | I10: 35671 | J10: 35691 | K10: 35600 | L10: =IF(SUM(B10:K10)>0,AVERAGE(B10:K10),"0") -> 35796.8
A11: ='Pregnant Women Participating'!A11 -> Rhode Island | B11: 961 | C11: 889 | D11: 874 | E11: 880 | F11: 884 | G11: 890 | H11: 834 | I11: 880 | J11: 868 | K11: 854 | L11: =IF(SUM(B11:K11)>0,AVERAGE(B11:K11),"0") -> 881.4
A12: ='Pregnant Women Participating'!A12 -> Vermont | B12: 375 | C12: 357 | D12: 368 | E12: 369 | F12: 365 | G12: 379 | H12: 366 | I12: 364 | J12: 368 | K12: 381 | L12: =IF(SUM(B12:K12)>0,AVERAGE(B12:K12),"0") -> 369.2
A13: ='Pregnant Women Participating'!A13 -> Virgin Islands | B13: 286 | C13: 290 | D13: 273 | E13: 277 | F13: 270 | G13: 266 | H13: 260 | I13: 254 | J13: 260 | K13: 0 | L13: =IF(SUM(B13:K13)>0,AVERAGE(B13:K13),"0") -> 243.6
A14: ='Pregnant Women Participating'!A14 -> Pleasant Point, ME | B14: 0 | C14: 1 | D14: 1 | E14: 2 | F14: 2 | G14: 2 | H14: 1 | I14: 1 | J14: 1 | K14: 0 | L14: =IF(SUM(B14:K14)>0,AVERAGE(B14:K14),"0") -> 1.1
A15: ='Pregnant Women Participating'!A15 -> Northeast Region | B15: 49079 | C15: 48331 | D15: 48119 | E15: 47888 | F15: 47477 | G15: 47616 | H15: 47658 | I15: 47540 | J15: 47445 | K15: 47062 | L15: =IF(SUM(B15:K15)>0,AVERAGE(B15:K15),"0") -> 47821.5
A16: ='Pregnant Women Participating'!A16 -> Delaware | B16: 1335 | C16: 1295 | D16: 1348 | E16: 1378 | F16: 1385 | G16: 1410 | H16: 1412 | I16: 1379 | J16: 1366 | K16: 1407 | L16: =IF(SUM(B16:K16)>0,AVERAGE(B16:K16),"0") -> 1371.5
A17: ='Pregnant Women Participating'!A17 -> District of Columbia | B17: 991 | C17: 955 | D17: 987 | E17: 984 | F17: 974 | G17: 974 | H17: 964 | I17: 965 | J17: 958 | K17: 964 | L17: =IF(SUM(B17:K17)>0,AVERAGE(B17:K17),"0") -> 971.6
... A101: ='Pregnant Women Participating'!A101 -> TOTAL | B101: 383227 | C101: 376166 | D101: 373531 | E101: 370514 | F101: 366914 | G101: 367729 | H101: 365874 | I101: 363253 | J101: 362243 | K101: 361395 | L101: =IF(SUM(B101:K101)>0,AVERAGE(B101:K101),"0") -> 369084.6
A104: All data are preliminary and are subject to revision.

Sheet Total Breastfeeding Women
A1: WIC PROGRAM -- NUMBER OF BREASTFEEDING WOMEN PARTICIPATING
A2: ='Pregnant Women Participating'!A2 -> FISCAL YEAR 2026
A3: ='Pregnant Women Participating'!A3 -> Data as of October 09, 2026
A5: State Agency or Indian Tribal Organization | B5: =DATE(RIGHT(A2,4)-1,10,1) -> 45931 | C5: =DATE(RIGHT(A2,4)-1,11,1) -> 45962 | D5: =DATE(RIGHT(A2,4)-1,12,1) -> 45992 | E5: =DATE(RIGHT(A2,4),1,1) -> 46023 | F5: =DATE(RIGHT(A2,4),2,1) -> 46054 | G5: =DATE(RIGHT(A2,4),3,1) -> 46082 | H5: =DATE(RIGHT(A2,4),4,1) -> 46113 | I5: =DATE(RIGHT(A2,4),5,1) -> 46143 | J5: =DATE(RIGHT(A2,4),6,1) -> 46174 | K5: =DATE(RIGHT(A2,4),7,1) -> 46204 | L5: Average Participation
A6: ='Pregnant Women Participating'!A6 -> Connecticut | B6: 4567 | C6: 4502 | D6: 4421 | E6: 4371 | F6: 4289 | G6: 4291 | H6: 4398 | I6: 4365 | J6: 4293 | K6: 4218 | L6: =IF(SUM(B6:K6)>0,AVERAGE(B6:K6)," ") -> 4371.5
A7: ='Pregnant Women Participating'!A7 -> Maine | B7: 1808 | C7: 1757 | D7: 1704 | E7: 1744 | F7: 1765 | G7: 1770 | H7: 1779 | I7: 1765 | J7: 1753 | K7: 1701 | L7: =IF(SUM(B7:K7)>0,AVERAGE(B7:K7)," ") -> 1754.6
A8: ='Pregnant Women Participating'!A8 -> Massachusetts | B8: 11094 | C8: 10766 | D8: 10691 | E8: 10499 | F8: 10309 | G8: 10448 | H8: 10396 | I8: 10370 | J8: 10279 | K8: 10258 | L8: =IF(SUM(B8:K8)>0,AVERAGE(B8:K8)," ") -> 10511
A9: ='Pregnant Women Participating'!A9 -> New Hampshire | B9: 1071 | C9: 1065 | D9: 1058 | E9: 1066 | F9: 1027 | G9: 1041 | H9: 1049 | I9: 1054 | J9: 1072 | K9: 1083 | L9: =IF(SUM(B9:K9)>0,AVERAGE(B9:K9)," ") -> 1058.6
A10: ='Pregnant Women Participating'!A10 -> New York | B10: 51248 | C10: 50767 | D10: 50524 | E10: 50387 | F10: 50255 | G10: 50392 | H10: 50439 | I10: 50245 | J10: 50210 | K10: 49967 | L10: =IF(SUM(B10:K10)>0,AVERAGE(B10:K10)," ") -> 50443.4
A11: ='Pregnant Women Participating'!A11 -> Rhode Island | B11: 1511 | C11: 1428 | D11: 1403 | E11: 1419 | F11: 1390 | G11: 1413 | H11: 1351 | I11: 1372 | J11: 1353 | K11: 1335 | L11: =IF(SUM(B11:K11)>0,AVERAGE(B11:K11)," ") -> 1397.5
A12: ='Pregnant Women Participating'!A12 -> Vermont | B12: 1091 | C12: 1081 | D12: 1106 | E12: 1106 | F12: 1118 | G12: 1139 | H12: 1136 | I12: 1125 | J12: 1122 | K12: 1141 | L12: =IF(SUM(B12:K12)>0,AVERAGE(B12:K12)," ") -> 1116.5
A13: ='Pregnant Women Participating'!A13 -> Virgin Islands | B13: 345 | C13: 338 | D13: 325 | E13: 326 | F13: 318 | G13: 309 | H13: 304 | I13: 293 | J13: 304 | K13: 0 | L13: =IF(SUM(B13:K13)>0,AVERAGE(B13:K13)," ") -> 286.2
A14: ='Pregnant Women Participating'!A14 -> Pleasant Point, ME | B14: 2 | C14: 2 | D14: 2 | E14: 3 | F14: 3 | G14: 5 | H14: 4 | I14: 4 | J14: 2 | K14: 0 | L14: =IF(SUM(B14:K14)>0,AVERAGE(B14:K14)," ") -> 2.7
A15: ='Pregnant Women Participating'!A15 -> Northeast Region | B15: 72737 | C15: 71706 | D15: 71234 | E15: 70921 | F15: 70474 | G15: 70808 | H15: 70856 | I15: 70593 | J15: 70388 | K15: 69703 | L15: =IF(SUM(B15:K15)>0,AVERAGE(B15:K15)," ") -> 70942
A16: ='Pregnant Women Participating'!A16 -> Delaware | B16: 1907 | C16: 1857 | D16: 1912 | E16: 1945 | F16: 1961 | G16: 1986 | H16: 1974 | I16: 1936 | J16: 1926 | K16: 1952 | L16: =IF(SUM(B16:K16)>0,AVERAGE(B16:K16)," ") -> 1935.6
A17: ='Pregnant Women Participating'!A17 -> District of Columbia | B17: 1303 | C17: 1260 | D17: 1294 | E17: 1290 | F17: 1266 | G17: 1255 | H17: 1229 | I17: 1228 | J17: 1228 | K17: 1241 | L17: =IF(SUM(B17:K17)>0,AVERAGE(B17:K17)," ") -> 1259.4
... A101: ='Pregnant Women Participating'!A101 -> TOTAL | B101: 649051 | C101: 636524 | D101: 630689 | E101: 625793 | F101: 621428 | G101: 624060 | H101: 621712 | I101: 616964 | J101: 613801 | K101: 612547 | L101: =IF(SUM(B101:K101)>0,AVERAGE(B101:K101)," ") -> 625256.9
A104: All data are preliminary and are subject to revision.

Sheet Postpartum Women Participating
A1: WIC PROGRAM -- NUMBER OF POSTPARTUM WOMEN PARTICIPATING
A2: ='Pregnant Women Participating'!A2 -> FISCAL YEAR 2026
A3: ='Pregnant Women Participating'!A3 -> Data as of October 09, 2026
A5: State Agency or Indian Tribal Organization | B5: =DATE(RIGHT(A2,4)-1,10,1) -> 45931 | C5: =DATE(RIGHT(A2,4)-1,11,1) -> 45962 | D5: =DATE(RIGHT(A2,4)-1,12,1) -> 45992 | E5: =DATE(RIGHT(A2,4),1,1) -> 46023 | F5: =DATE(RIGHT(A2,4),2,1) -> 46054 | G5: =DATE(RIGHT(A2,4),3,1) -> 46082 | H5: =DATE(RIGHT(A2,4),4,1) -> 46113 | I5: =DATE(RIGHT(A2,4),5,1) -> 46143 | J5: =DATE(RIGHT(A2,4),6,1) -> 46174 | K5: =DATE(RIGHT(A2,4),7,1) -> 46204 | L5: Average Participation
A6: ='Pregnant Women Participating'!A6 -> Connecticut | B6: 1849 | C6: 1839 | D6: 1812 | E6: 1756 | F6: 1700 | G6: 1596 | H6: 1642 | I6: 1590 | J6: 1597 | K6: 1631 | L6: =IF(SUM(B6:K6)>0,AVERAGE(B6:K6)," ") -> 1701.2
A7: ='Pregnant Women Participating'!A7 -> Maine | B7: 697 | C7: 699 | D7: 690 | E7: 685 | F7: 680 | G7: 634 | H7: 628 | I7: 646 | J7: 680 | K7: 694 | L7: =IF(SUM(B7:K7)>0,AVERAGE(B7:K7)," ") -> 673.3
A8: ='Pregnant Women Participating'!A8 -> Massachusetts | B8: 4776 | C8: 4630 | D8: 4596 | E8: 4650 | F8: 4430 | G8: 4424 | H8: 4411 | I8: 4376 | J8: 4022 | K8: 4015 | L8: =IF(SUM(B8:K8)>0,AVERAGE(B8:K8)," ") -> 4433
A9: ='Pregnant Women Participating'!A9 -> New Hampshire | B9: 473 | C9: 458 | D9: 463 | E9: 478 | F9: 483 | G9: 505 | H9: 524 | I9: 507 | J9: 488 | K9: 505 | L9: =IF(SUM(B9:K9)>0,AVERAGE(B9:K9)," ") -> 488.4
A10: ='Pregnant Women Participating'!A10 -> New York | B10: 14179 | C10: 14032 | D10: 13800 | E10: 13880 | F10: 13481 | G10: 13299 | H10: 13175 | I10: 12889 | J10: 12815 | K10: 12937 | L10: =IF(SUM(B10:K10)>0,AVERAGE(B10:K10)," ") -> 13448.7
A11: ='Pregnant Women Participating'!A11 -> Rhode Island | B11: 966 | C11: 1007 | D11: 990 | E11: 974 | F11: 944 | G11: 882 | H11: 883 | I11: 857 | J11: 855 | K11: 867 | L11: =IF(SUM(B11:K11)>0,AVERAGE(B11:K11)," ") -> 922.5
A12: ='Pregnant Women Participating'!A12 -> Vermont | B12: 351 | C12: 355 | D12: 351 | E12: 363 | F12: 344 | G12: 330 | H12: 328 | I12: 327 | J12: 338 | K12: 363 | L12: =IF(SUM(B12:K12)>0,AVERAGE(B12:K12)," ") -> 345
A13: ='Pregnant Women Participating'!A13 -> Virgin Islands | B13: 53 | C13: 55 | D13: 63 | E13: 66 | F13: 67 | G13: 56 | H13: 62 | I13: 57 | J13: 57 | K13: 0 | L13: =IF(SUM(B13:K13)>0,AVERAGE(B13:K13)," ") -> 53.6
A14: ='Pregnant Women Participating'!A14 -> Pleasant Point, ME | B14: 2 | C14: 3 | D14: 3 | E14: 4 | F14: 2 | G14: 5 | H14: 5 | I14: 5 | J14: 5 | K14: 0 | L14: =IF(SUM(B14:K14)>0,AVERAGE(B14:K14)," ") -> 3.4
A15: ='Pregnant Women Participating'!A15 -> Northeast Region | B15: 23346 | C15: 23078 | D15: 22768 | E15: 22856 | F15: 22131 | G15: 21731 | H15: 21658 | I15: 21254 | J15: 20857 | K15: 21012 | L15: =IF(SUM(B15:K15)>0,AVERAGE(B15:K15)," ") -> 22069.1
A16: ='Pregnant Women Participating'!A16 -> Delaware | B16: 1000 | C16: 996 | D16: 983 | E16: 989 | F16: 943 | G16: 910 | H16: 927 | I16: 931 | J16: 923 | K16: 946 | L16: =IF(SUM(B16:K16)>0,AVERAGE(B16:K16)," ") -> 954.8
A17: ='Pregnant Women Participating'!A17 -> District of Columbia | B17: 602 | C17: 615 | D17: 633 | E17: 634 | F17: 630 | G17: 638 | H17: 642 | I17: 640 | J17: 616 | K17: 627 | L17: =IF(SUM(B17:K17)>0,AVERAGE(B17:K17)," ") -> 627.7
... A101: ='Pregnant Women Participating'!A101 -> TOTAL | B101: 333071 | C101: 327798 | D101: 324887 | E101: 325535 | F101: 319844 | G101: 314845 | H101: 314163 | I101: 308652 | J101: 308217 | K101: 308080 | L101: =IF(SUM(B101:K101)>0,AVERAGE(B101:K101)," ") -> 318509.2
A104: All data are preliminary and are subject to revision.

Sheet Total Women
A1: WIC PROGRAM -- TOTAL NUMBER OF WOMEN PARTICIPATING
A2: ='Pregnant Women Participating'!A2 -> FISCAL YEAR 2026
A3: ='Pregnant Women Participating'!A3 -> Data as of October 09, 2026
A5: State Agency or Indian Tribal Organization | B5: =DATE(RIGHT(A2,4)-1,10,1) -> 45931 | C5: =DATE(RIGHT(A2,4)-1,11,1) -> 45962 | D5: =DATE(RIGHT(A2,4)-1,12,1) -> 45992 | E5: =DATE(RIGHT(A2,4),1,1) -> 46023 | F5: =DATE(RIGHT(A2,4),2,1) -> 46054 | G5: =DATE(RIGHT(A2,4),3,1) -> 46082 | H5: =DATE(RIGHT(A2,4),4,1) -> 46113 | I5: =DATE(RIGHT(A2,4),5,1) -> 46143 | J5: =DATE(RIGHT(A2,4),6,1) -> 46174 | K5: =DATE(RIGHT(A2,4),7,1) -> 46204 | L5: Average Participation
A6: ='Pregnant Women Participating'!A6 -> Connecticut | B6: 11010 | C6: 10631 | D6: 10501 | E6: 10319 | F6: 10108 | G6: 10216 | H6: 10360 | I6: 10278 | J6: 10264 | K6: 10288 | L6: =IF(SUM(B6:K6)>0,AVERAGE(B6:K6)," ") -> 10397.5
A7: ='Pregnant Women Participating'!A7 -> Maine | B7: 4026 | C7: 3896 | D7: 3778 | E7: 3828 | F7: 3798 | G7: 3818 | H7: 3856 | I7: 3872 | J7: 3891 | K7: 3886 | L7: =IF(SUM(B7:K7)>0,AVERAGE(B7:K7)," ") -> 3864.9
A8: ='Pregnant Women Participating'!A8 -> Massachusetts | B8: 24418 | C8: 23848 | D8: 23531 | E8: 23358 | F8: 23177 | G8: 23635 | H8: 23633 | I8: 23598 | J8: 23456 | K8: 23410 | L8: =IF(SUM(B8:K8)>0,AVERAGE(B8:K8)," ") -> 23606.4
A9: ='Pregnant Women Participating'!A9 -> New Hampshire | B9: 2403 | C9: 2354 | D9: 2365 | E9: 2383 | F9: 2361 | G9: 2461 | H9: 2529 | I9: 2529 | J9: 2505 | K9: 2536 | L9: =IF(SUM(B9:K9)>0,AVERAGE(B9:K9)," ") -> 2442.6
A10: ='Pregnant Women Participating'!A10 -> New York | B10: 96725 | C10: 94721 | D10: 93781 | E10: 93879 | F10: 93127 | G10: 94550 | H10: 95092 | I10: 94887 | J10: 94559 | K10: 94721 | L10: =IF(SUM(B10:K10)>0,AVERAGE(B10:K10)," ") -> 94604.2
A11: ='Pregnant Women Participating'!A11 -> Rhode Island | B11: 3791 | C11: 3627 | D11: 3587 | E11: 3623 | F11: 3504 | G11: 3565 | H11: 3589 | I11: 3586 | J11: 3581 | K11: 3587 | L11: =IF(SUM(B11:K11)>0,AVERAGE(B11:K11)," ") -> 3604
A12: ='Pregnant Women Participating'!A12 -> Vermont | B12: 2178 | C12: 2157 | D12: 2181 | E12: 2201 | F12: 2216 | G12: 2244 | H12: 2270 | I12: 2287 | J12: 2279 | K12: 2306 | L12: =IF(SUM(B12:K12)>0,AVERAGE(B12:K12)," ") -> 2231.9
A13: ='Pregnant Women Participating'!A13 -> Virgin Islands | B13: 561 | C13: 570 | D13: 541 | E13: 530 | F13: 507 | G13: 499 | H13: 497 | I13: 486 | J13: 516 | K13: 0 | L13: =IF(SUM(B13:K13)>0,AVERAGE(B13:K13)," ") -> 470.7
A14: ='Pregnant Women Participating'!A14 -> Pleasant Point, ME | B14: 10 | C14: 13 | D14: 13 | E14: 14 | F14: 11 | G14: 14 | H14: 13 | I14: 14 | J14: 11 | K14: 0 | L14: =IF(SUM(B14:K14)>0,AVERAGE(B14:K14)," ") -> 11.3
A15: ='Pregnant Women Participating'!A15 -> Northeast Region | B15: 145122 | C15: 141817 | D15: 140278 | E15: 140135 | F15: 138809 | G15: 141002 | H15: 141839 | I15: 141537 | J15: 141062 | K15: 140734 | L15: =IF(SUM(B15:K15)>0,AVERAGE(B15:K15)," ") -> 141233.5
A16: ='Pregnant Women Participating'!A16 -> Delaware | B16: 4749 | C16: 4619 | D16: 4684 | E16: 4705 | F16: 4655 | G16: 4709 | H16: 4678 | I16: 4695 | J16: 4773 | K16: 4863 | L16: =IF(SUM(B16:K16)>0,AVERAGE(B16:K16)," ") -> 4713
A17: ='Pregnant Women Participating'!A17 -> District of Columbia | B17: 2769 | C17: 2704 | D17: 2702 | E17: 2644 | F17: 2640 | G17: 2666 | H17: 2665 | I17: 2670 | J17: 2637 | K17: 2691 | L17: =IF(SUM(B17:K17)>0,AVERAGE(B17:K17)," ") -> 2678.8
... A101: ='Pregnant Women Participating'!A101 -> TOTAL | B101: 1530210 | C101: 1481538 | D101: 1457547 | E101: 1452546 | F101: 1444970 | G101: 1458066 | H101: 1463580 | I101: 1456326 | J101: 1459782 | K101: 1463477 | L101: =IF(SUM(B101:K101)>0,AVERAGE(B101:K101)," ") -> 1466804.2
A104: All data are preliminary and are subject to revision.

Sheet Infants Fully Breastfed
A1: WIC PROGRAM -- Infants Fully Breastfed
A2: ='Pregnant Women Participating'!A2 -> FISCAL YEAR 2026
A3: ='Pregnant Women Participating'!A3 -> Data as of October 09, 2026
A5: State Agency or Indian Tribal Organization | B5: =DATE(RIGHT(A2,4)-1,10,1) -> 45931 | C5: =DATE(RIGHT(A2,4)-1,11,1) -> 45962 | D5: =DATE(RIGHT(A2,4)-1,12,1) -> 45992 | E5: =DATE(RIGHT(A2,4),1,1) -> 46023 | F5: =DATE(RIGHT(A2,4),2,1) -> 46054 | G5: =DATE(RIGHT(A2,4),3,1) -> 46082 | H5: =DATE(RIGHT(A2,4),4,1) -> 46113 | I5: =DATE(RIGHT(A2,4),5,1) -> 46143 | J5: =DATE(RIGHT(A2,4),6,1) -> 46174 | K5: =DATE(RIGHT(A2,4),7,1) -> 46204 | L5: Average Participation
A6: ='Pregnant Women Participating'!A6 -> Connecticut | B6: 1877 | C6: 1811 | D6: 1792 | E6: 1786 | F6: 1752 | G6: 1767 | H6: 1757 | I6: 1759 | J6: 1732 | K6: 1721 | L6: =IF(SUM(B6:K6)>0,AVERAGE(B6:K6),"0") -> 1775.4
A7: ='Pregnant Women Participating'!A7 -> Maine | B7: 1017 | C7: 964 | D7: 971 | E7: 984 | F7: 997 | G7: 981 | H7: 992 | I7: 1007 | J7: 1010 | K7: 1009 | L7: =IF(SUM(B7:K7)>0,AVERAGE(B7:K7),"0") -> 993.2
A8: ='Pregnant Women Participating'!A8 -> Massachusetts | B8: 4150 | C8: 4094 | D8: 4034 | E8: 4004 | F8: 3929 | G8: 3959 | H8: 4015 | I8: 4004 | J8: 4218 | K8: 4211 | L8: =IF(SUM(B8:K8)>0,AVERAGE(B8:K8),"0") -> 4061.8
A9: ='Pregnant Women Participating'!A9 -> New Hampshire | B9: 657 | C9: 615 | D9: 611 | E9: 636 | F9: 606 | G9: 614 | H9: 629 | I9: 638 | J9: 648 | K9: 655 | L9: =IF(SUM(B9:K9)>0,AVERAGE(B9:K9),"0") -> 630.9
A10: ='Pregnant Women Participating'!A10 -> New York | B10: 14788 | C10: 14495 | D10: 14509 | E10: 14459 | F10: 14475 | G10: 14698 | H10: 14594 | I10: 14494 | J10: 14404 | K10: 14278 | L10: =IF(SUM(B10:K10)>0,AVERAGE(B10:K10),"0") -> 14519.4
A11: ='Pregnant Women Participating'!A11 -> Rhode Island | B11: 573 | C11: 545 | D11: 552 | E11: 546 | F11: 507 | G11: 520 | H11: 517 | I11: 503 | J11: 494 | K11: 506 | L11: =IF(SUM(B11:K11)>0,AVERAGE(B11:K11),"0") -> 526.3
A12: ='Pregnant Women Participating'!A12 -> Vermont | B12: 663 | C12: 681 | D12: 690 | E12: 692 | F12: 698 | G12: 695 | H12: 714 | I12: 690 | J12: 700 | K12: 682 | L12: =IF(SUM(B12:K12)>0,AVERAGE(B12:K12),"0") -> 690.5
A13: ='Pregnant Women Participating'!A13 -> Virgin Islands | B13: 59 | C13: 56 | D13: 52 | E13: 55 | F13: 51 | G13: 47 | H13: 46 | I13: 40 | J13: 47 | K13: 0 | L13: =IF(SUM(B13:K13)>0,AVERAGE(B13:K13),"0") -> 45.3
A14: ='Pregnant Women Participating'!A14 -> Pleasant Point, ME | B14: 2 | C14: 1 | D14: 1 | E14: 1 | F14: 1 | G14: 1 | H14: 1 | I14: 1 | J14: 0 | K14: 0 | L14: =IF(SUM(B14:K14)>0,AVERAGE(B14:K14),"0") -> 0.9
A15: ='Pregnant Women Participating'!A15 -> Northeast Region | B15: 23786 | C15: 23262 | D15: 23212 | E15: 23163 | F15: 23016 | G15: 23282 | H15: 23265 | I15: 23136 | J15: 23253 | K15: 23062 | L15: =IF(SUM(B15:K15)>0,AVERAGE(B15:K15),"0") -> 23243.7
A16: ='Pregnant Women Participating'!A16 -> Delaware | B16: 606 | C16: 610 | D16: 606 | E16: 607 | F16: 602 | G16: 611 | H16: 598 | I16: 591 | J16: 591 | K16: 590 | L16: =IF(SUM(B16:K16)>0,AVERAGE(B16:K16),"0") -> 601.2
A17: ='Pregnant Women Participating'!A17 -> District of Columbia | B17: 308 | C17: 301 | D17: 301 | E17: 299 | F17: 286 | G17: 274 | H17: 266 | I17: 268 | J17: 271 | K17: 268 | L17: =IF(SUM(B17:K17)>0,AVERAGE(B17:K17),"0") -> 284.2
... A101: ='Pregnant Women Participating'!A101 -> TOTAL | B101: 263441 | C101: 256122 | D101: 253543 | E101: 252614 | F101: 251849 | G101: 253992 | H101: 254133 | I101: 251434 | J101: 250090 | K101: 250418 | L101: =IF(SUM(B101:K101)>0,AVERAGE(B101:K101),"0") -> 253763.6
A104: All data are preliminary and are subject to revision.

Sheet Infants Partially Breastfed
A1: WIC PROGRAM -- Infants Partially Breastfed
A2: ='Pregnant Women Participating'!A2 -> FISCAL YEAR 2026
A3: ='Pregnant Women Participating'!A3 -> Data as of October 09, 2026
A5: State Agency or Indian Tribal Organization | B5: =DATE(RIGHT(A2,4)-1,10,1) -> 45931 | C5: =DATE(RIGHT(A2,4)-1,11,1) -> 45962 | D5: =DATE(RIGHT(A2,4)-1,12,1) -> 45992 | E5: =DATE(RIGHT(A2,4),1,1) -> 46023 | F5: =DATE(RIGHT(A2,4),2,1) -> 46054 | G5: =DATE(RIGHT(A2,4),3,1) -> 46082 | H5: =DATE(RIGHT(A2,4),4,1) -> 46113 | I5: =DATE(RIGHT(A2,4),5,1) -> 46143 | J5: =DATE(RIGHT(A2,4),6,1) -> 46174 | K5: =DATE(RIGHT(A2,4),7,1) -> 46204 | L5: Average Participation
A6: ='Pregnant Women Participating'!A6 -> Connecticut | B6: 3817 | C6: 3655 | D6: 3660 | E6: 3670 | F6: 3493 | G6: 3608 | H6: 3570 | I6: 3529 | J6: 3474 | K6: 3500 | L6: =IF(SUM(B6:K6)>0,AVERAGE(B6:K6),"0") -> 3597.6
A7: ='Pregnant Women Participating'!A7 -> Maine | B7: 983 | C7: 934 | D7: 923 | E7: 943 | F7: 895 | G7: 901 | H7: 901 | I7: 869 | J7: 866 | K7: 876 | L7: =IF(SUM(B7:K7)>0,AVERAGE(B7:K7),"0") -> 909.1
A8: ='Pregnant Women Participating'!A8 -> Massachusetts | B8: 6989 | C8: 6831 | D8: 6767 | E8: 6617 | F8: 6567 | G8: 6603 | H8: 6613 | I8: 6564 | J8: 7051 | K8: 7037 | L8: =IF(SUM(B8:K8)>0,AVERAGE(B8:K8),"0") -> 6763.9
A9: ='Pregnant Women Participating'!A9 -> New Hampshire | B9: 460 | C9: 467 | D9: 488 | E9: 458 | F9: 447 | G9: 460 | H9: 450 | I9: 445 | J9: 452 | K9: 482 | L9: =IF(SUM(B9:K9)>0,AVERAGE(B9:K9),"0") -> 460.9
A10: ='Pregnant Women Participating'!A10 -> New York | B10: 38609 | C10: 37716 | D10: 37948 | E10: 37961 | F10: 37424 | G10: 37879 | H10: 37907 | I10: 37718 | J10: 37771 | K10: 37981 | L10: =IF(SUM(B10:K10)>0,AVERAGE(B10:K10),"0") -> 37891.4
A11: ='Pregnant Women Participating'!A11 -> Rhode Island | B11: 1056 | C11: 942 | D11: 927 | E11: 965 | F11: 957 | G11: 983 | H11: 942 | I11: 972 | J11: 961 | K11: 951 | L11: =IF(SUM(B11:K11)>0,AVERAGE(B11:K11),"0") -> 965.6
A12: ='Pregnant Women Participating'!A12 -> Vermont | B12: 406 | C12: 400 | D12: 410 | E12: 413 | F12: 417 | G12: 438 | H12: 427 | I12: 422 | J12: 437 | K12: 429 | L12: =IF(SUM(B12:K12)>0,AVERAGE(B12:K12),"0") -> 419.9
A13: ='Pregnant Women Participating'!A13 -> Virgin Islands | B13: 316 | C13: 319 | D13: 310 | E13: 312 | F13: 302 | G13: 301 | H13: 290 | I13: 279 | J13: 292 | K13: 0 | L13: =IF(SUM(B13:K13)>0,AVERAGE(B13:K13),"0") -> 272.1
A14: ='Pregnant Women Participating'!A14 -> Pleasant Point, ME | B14: 0 | C14: 1 | D14: 2 | E14: 3 | F14: 3 | G14: 3 | H14: 2 | I14: 1 | J14: 2 | K14: 0 | L14: =IF(SUM(B14:K14)>0,AVERAGE(B14:K14),"0") -> 1.7
A15: ='Pregnant Women Participating'!A15 -> Northeast Region | B15: 52636 | C15: 51265 | D15: 51435 | E15: 51342 | F15: 50505 | G15: 51176 | H15: 51102 | I15: 50799 | J15: 51306 | K15: 51256 | L15: =IF(SUM(B15:K15)>0,AVERAGE(B15:K15),"0") -> 51282.2
A16: ='Pregnant Women Participating'!A16 -> Delaware | B16: 1651 | C16: 1620 | D16: 1677 | E16: 1656 | F16: 1623 | G16: 1655 | H16: 1639 | I16: 1583 | J16: 1612 | K16: 1640 | L16: =IF(SUM(B16:K16)>0,AVERAGE(B16:K16),"0") -> 1635.6
A17: ='Pregnant Women Participating'!A17 -> District of Columbia | B17: 1000 | C17: 956 | D17: 976 | E17: 967 | F17: 976 | G17: 967 | H17: 1999 | I17: 966 | J17: 946 | K17: 939 | L17: =IF(SUM(B17:K17)>0,AVERAGE(B17:K17),"0") -> 1069.2
... A101: ='Pregnant Women Participating'!A101 -> TOTAL | B101: 409843 | C101: 405064 | D101: 404518 | E101: 402181 | F101: 397044 | G101: 399306 | H101: 398600 | I101: 393383 | J101: 393858 | K101: 394355 | L101: =IF(SUM(B101:K101)>0,AVERAGE(B101:K101),"0") -> 399815.2
A104: All data are preliminary and are subject to revision.

Sheet Infants Fully Formula-fed
A1: WIC PROGRAM -- Infants Fully Formula-fed
A2: ='Pregnant Women Participating'!A2 -> FISCAL YEAR 2026
A3: ='Pregnant Women Participating'!A3 -> Data as of October 09, 2026
A5: State Agency or Indian Tribal Organization | B5: =DATE(RIGHT(A2,4)-1,10,1) -> 45931 | C5: =DATE(RIGHT(A2,4)-1,11,1) -> 45962 | D5: =DATE(RIGHT(A2,4)-1,12,1) -> 45992 | E5: =DATE(RIGHT(A2,4),1,1) -> 46023 | F5: =DATE(RIGHT(A2,4),2,1) -> 46054 | G5: =DATE(RIGHT(A2,4),3,1) -> 46082 | H5: =DATE(RIGHT(A2,4),4,1) -> 46113 | I5: =DATE(RIGHT(A2,4),5,1) -> 46143 | J5: =DATE(RIGHT(A2,4),6,1) -> 46174 | K5: =DATE(RIGHT(A2,4),7,1) -> 46204 | L5: Average Participation
A6: ='Pregnant Women Participating'!A6 -> Connecticut | B6: 5673 | C6: 5573 | D6: 5568 | E6: 5428 | F6: 5342 | G6: 5398 | H6: 5373 | I6: 5304 | J6: 5298 | K6: 5374 | L6: =IF(SUM(B6:K6)>0,AVERAGE(B6:K6),"0") -> 5433.1
A7: ='Pregnant Women Participating'!A7 -> Maine | B7: 1974 | C7: 1946 | D7: 1931 | E7: 1943 | F7: 1948 | G7: 1948 | H7: 1925 | I7: 1943 | J7: 2008 | K7: 2111 | L7: =IF(SUM(B7:K7)>0,AVERAGE(B7:K7),"0") -> 1967.7
A8: ='Pregnant Women Participating'!A8 -> Massachusetts | B8: 12333 | C8: 12078 | D8: 11933 | E8: 11874 | F8: 11748 | G8: 11711 | H8: 11646 | I8: 11569 | J8: 11256 | K8: 11235 | L8: =IF(SUM(B8:K8)>0,AVERAGE(B8:K8),"0") -> 11738.3
A9: ='Pregnant Women Participating'!A9 -> New Hampshire | B9: 1153 | C9: 1106 | D9: 1094 | E9: 1109 | F9: 1112 | G9: 1132 | H9: 1189 | I9: 1153 | J9: 1168 | K9: 1214 | L9: =IF(SUM(B9:K9)>0,AVERAGE(B9:K9),"0") -> 1143
A10: ='Pregnant Women Participating'!A10 -> New York | B10: 36352 | C10: 35529 | D10: 35207 | E10: 35190 | F10: 34770 | G10: 35134 | H10: 34860 | I10: 34657 | J10: 34405 | K10: 34338 | L10: =IF(SUM(B10:K10)>0,AVERAGE(B10:K10),"0") -> 35044.2
A11: ='Pregnant Women Participating'!A11 -> Rhode Island | B11: 2228 | C11: 2246 | D11: 2233 | E11: 2222 | F11: 2157 | G11: 2140 | H11: 2141 | I11: 2123 | J11: 2086 | K11: 2124 | L11: =IF(SUM(B11:K11)>0,AVERAGE(B11:K11),"0") -> 2170
A12: ='Pregnant Women Participating'!A12 -> Vermont | B12: 747 | C12: 751 | D12: 739 | E12: 723 | F12: 714 | G12: 721 | H12: 737 | I12: 731 | J12: 754 | K12: 792 | L12: =IF(SUM(B12:K12)>0,AVERAGE(B12:K12),"0") -> 740.9
A13: ='Pregnant Women Participating'!A13 -> Virgin Islands | B13: 160 | C13: 159 | D13: 152 | E13: 149 | F13: 145 | G13: 156 | H13: 161 | I13: 166 | J13: 178 | K13: 0 | L13: =IF(SUM(B13:K13)>0,AVERAGE(B13:K13),"0") -> 142.6
A14: ='Pregnant Women Participating'!A14 -> Pleasant Point, ME | B14: 5 | C14: 6 | D14: 6 | E14: 7 | F14: 6 | G14: 8 | H14: 7 | I14: 8 | J14: 7 | K14: 0 | L14: =IF(SUM(B14:K14)>0,AVERAGE(B14:K14),"0") -> 6
A15: ='Pregnant Women Participating'!A15 -> Northeast Region | B15: 60625 | C15: 59394 | D15: 58863 | E15: 58645 | F15: 57942 | G15: 58348 | H15: 58039 | I15: 57654 | J15: 57160 | K15: 57188 | L15: =IF(SUM(B15:K15)>0,AVERAGE(B15:K15),"0") -> 58385.8
A16: ='Pregnant Women Participating'!A16 -> Delaware | B16: 2569 | C16: 2556 | D16: 2550 | E16: 2542 | F16: 2490 | G16: 2469 | H16: 2478 | I16: 2484 | J16: 2484 | K16: 2546 | L16: =IF(SUM(B16:K16)>0,AVERAGE(B16:K16),"0") -> 2516.8
A17: ='Pregnant Women Participating'!A17 -> District of Columbia | B17: 1492 | C17: 1448 | D17: 1479 | E17: 1480 | F17: 1469 | G17: 1528 | H17: 521 | I17: 1550 | J17: 1547 | K17: 1561 | L17: =IF(SUM(B17:K17)>0,AVERAGE(B17:K17),"0") -> 1407.5
... A101: ='Pregnant Women Participating'!A101 -> TOTAL | B101: 806460 | C101: 778147 | D101: 771344 | E101: 767652 | F101: 761995 | G101: 765781 | H101: 766266 | I101: 762344 | J101: 760592 | K101: 762023 | L101: =IF(SUM(B101:K101)>0,AVERAGE(B101:K101),"0") -> 770260.4
A104: All data are preliminary and are subject to revision.

Sheet Total Infants
A1: WIC PROGRAM -- NUMBER OF INFANTS PARTICIPATING
A2: ='Pregnant Women Participating'!A2 -> FISCAL YEAR 2026
A3: ='Pregnant Women Participating'!A3 -> Data as of October 09, 2026
A5: State Agency or Indian Tribal Organization | B5: =DATE(RIGHT(A2,4)-1,10,1) -> 45931 | C5: =DATE(RIGHT(A2,4)-1,11,1) -> 45962 | D5: =DATE(RIGHT(A2,4)-1,12,1) -> 45992 | E5: =DATE(RIGHT(A2,4),1,1) -> 46023 | F5: =DATE(RIGHT(A2,4),2,1) -> 46054 | G5: =DATE(RIGHT(A2,4),3,1) -> 46082 | H5: =DATE(RIGHT(A2,4),4,1) -> 46113 | I5: =DATE(RIGHT(A2,4),5,1) -> 46143 | J5: =DATE(RIGHT(A2,4),6,1) -> 46174 | K5: =DATE(RIGHT(A2,4),7,1) -> 46204 | L5: Average Participation
A6: ='Pregnant Women Participating'!A6 -> Connecticut | B6: 11367 | C6: 11039 | D6: 11020 | E6: 10884 | F6: 10587 | G6: 10773 | H6: 10700 | I6: 10592 | J6: 10504 | K6: 10595 | L6: =IF(SUM(B6:K6)>0,AVERAGE(B6:K6)," ") -> 10806.1
A7: ='Pregnant Women Participating'!A7 -> Maine | B7: 3974 | C7: 3844 | D7: 3825 | E7: 3870 | F7: 3840 | G7: 3830 | H7: 3818 | I7: 3819 | J7: 3884 | K7: 3996 | L7: =IF(SUM(B7:K7)>0,AVERAGE(B7:K7)," ") -> 3870
A8: ='Pregnant Women Participating'!A8 -> Massachusetts | B8: 23472 | C8: 23003 | D8: 22734 | E8: 22495 | F8: 22244 | G8: 22273 | H8: 22274 | I8: 22137 | J8: 22525 | K8: 22483 | L8: =IF(SUM(B8:K8)>0,AVERAGE(B8:K8)," ") -> 22564
A9: ='Pregnant Women Participating'!A9 -> New Hampshire | B9: 2270 | C9: 2188 | D9: 2193 | E9: 2203 | F9: 2165 | G9: 2206 | H9: 2268 | I9: 2236 | J9: 2268 | K9: 2351 | L9: =IF(SUM(B9:K9)>0,AVERAGE(B9:K9)," ") -> 2234.8
A10: ='Pregnant Women Participating'!A10 -> New York | B10: 89749 | C10: 87740 | D10: 87664 | E10: 87610 | F10: 86669 | G10: 87711 | H10: 87361 | I10: 86869 | J10: 86580 | K10: 86597 | L10: =IF(SUM(B10:K10)>0,AVERAGE(B10:K10)," ") -> 87455
A11: ='Pregnant Women Participating'!A11 -> Rhode Island | B11: 3857 | C11: 3733 | D11: 3712 | E11: 3733 | F11: 3621 | G11: 3643 | H11: 3600 | I11: 3598 | J11: 3541 | K11: 3581 | L11: =IF(SUM(B11:K11)>0,AVERAGE(B11:K11)," ") -> 3661.9
A12: ='Pregnant Women Participating'!A12 -> Vermont | B12: 1816 | C12: 1832 | D12: 1839 | E12: 1828 | F12: 1829 | G12: 1854 | H12: 1878 | I12: 1843 | J12: 1891 | K12: 1903 | L12: =IF(SUM(B12:K12)>0,AVERAGE(B12:K12)," ") -> 1851.3
A13: ='Pregnant Women Participating'!A13 -> Virgin Islands | B13: 535 | C13: 534 | D13: 514 | E13: 516 | F13: 498 | G13: 504 | H13: 497 | I13: 485 | J13: 517 | K13: 0 | L13: =IF(SUM(B13:K13)>0,AVERAGE(B13:K13)," ") -> 460
A14: ='Pregnant Women Participating'!A14 -> Pleasant Point, ME | B14: 7 | C14: 8 | D14: 9 | E14: 11 | F14: 10 | G14: 12 | H14: 10 | I14: 10 | J14: 9 | K14: 0 | L14: =IF(SUM(B14:K14)>0,AVERAGE(B14:K14)," ") -> 8.6
A15: ='Pregnant Women Participating'!A15 -> Northeast Region | B15: 137047 | C15: 133921 | D15: 133510 | E15: 133150 | F15: 131463 | G15: 132806 | H15: 132406 | I15: 131589 | J15: 131719 | K15: 131506 | L15: =IF(SUM(B15:K15)>0,AVERAGE(B15:K15)," ") -> 132911.7
A16: ='Pregnant Women Participating'!A16 -> Delaware | B16: 4826 | C16: 4786 | D16: 4833 | E16: 4805 | F16: 4715 | G16: 4735 | H16: 4715 | I16: 4658 | J16: 4687 | K16: 4776 | L16: =IF(SUM(B16:K16)>0,AVERAGE(B16:K16)," ") -> 4753.6
A17: ='Pregnant Women Participating'!A17 -> District of Columbia | B17: 2800 | C17: 2705 | D17: 2756 | E17: 2746 | F17: 2731 | G17: 2769 | H17: 2786 | I17: 2784 | J17: 2764 | K17: 2768 | L17: =IF(SUM(B17:K17)>0,AVERAGE(B17:K17)," ") -> 2760.9
... A101: ='Pregnant Women Participating'!A101 -> TOTAL | B101: 1479744 | C101: 1439333 | D101: 1429405 | E101: 1422447 | F101: 1410888 | G101: 1419079 | H101: 1418999 | I101: 1407161 | J101: 1404540 | K101: 1406796 | L101: =IF(SUM(B101:K101)>0,AVERAGE(B101:K101)," ") -> 1423839.2
A104: All data are preliminary and are subject to revision.

Sheet Children Participating
A1: WIC PROGRAM -- NUMBER OF CHILDREN PARTICIPATING
A2: ='Pregnant Women Participating'!A2 -> FISCAL YEAR 2026
A3: ='Pregnant Women Participating'!A3 -> Data as of October 09, 2026
A5: State Agency or Indian Tribal Organization | B5: =DATE(RIGHT(A2,4)-1,10,1) -> 45931 | C5: =DATE(RIGHT(A2,4)-1,11,1) -> 45962 | D5: =DATE(RIGHT(A2,4)-1,12,1) -> 45992 | E5: =DATE(RIGHT(A2,4),1,1) -> 46023 | F5: =DATE(RIGHT(A2,4),2,1) -> 46054 | G5: =DATE(RIGHT(A2,4),3,1) -> 46082 | H5: =DATE(RIGHT(A2,4),4,1) -> 46113 | I5: =DATE(RIGHT(A2,4),5,1) -> 46143 | J5: =DATE(RIGHT(A2,4),6,1) -> 46174 | K5: =DATE(RIGHT(A2,4),7,1) -> 46204 | L5: Average Participation
A6: ='Pregnant Women Participating'!A6 -> Connecticut | B6: 30948 | C6: 30659 | D6: 30411 | E6: 30274 | F6: 29920 | G6: 29963 | H6: 29832 | I6: 29804 | J6: 29684 | K6: 29234 | L6: =IF(SUM(B6:K6)>0,AVERAGE(B6:K6)," ") -> 30072.9
A7: ='Pregnant Women Participating'!A7 -> Maine | B7: 11307 | C7: 11229 | D7: 11114 | E7: 11112 | F7: 10977 | G7: 11097 | H7: 11172 | I7: 11133 | J7: 11040 | K7: 10945 | L7: =IF(SUM(B7:K7)>0,AVERAGE(B7:K7)," ") -> 11112.6
A8: ='Pregnant Women Participating'!A8 -> Massachusetts | B8: 71484 | C8: 70696 | D8: 70339 | E8: 70620 | F8: 70277 | G8: 70772 | H8: 70836 | I8: 70643 | J8: 70034 | K8: 69881 | L8: =IF(SUM(B8:K8)>0,AVERAGE(B8:K8)," ") -> 70558.2
A9: ='Pregnant Women Participating'!A9 -> New Hampshire | B9: 7602 | C9: 7493 | D9: 7553 | E9: 7545 | F9: 7407 | G9: 7671 | H9: 7782 | I9: 7841 | J9: 7749 | K9: 7827 | L9: =IF(SUM(B9:K9)>0,AVERAGE(B9:K9)," ") -> 7647
A10: ='Pregnant Women Participating'!A10 -> New York | B10: 275851 | C10: 275074 | D10: 276438 | E10: 278510 | F10: 278522 | G10: 280927 | H10: 281617 | I10: 281887 | J10: 281375 | K10: 280813 | L10: =IF(SUM(B10:K10)>0,AVERAGE(B10:K10)," ") -> 279101.4
A11: ='Pregnant Women Participating'!A11 -> Rhode Island | B11: 10354 | C11: 10098 | D11: 10066 | E11: 10251 | F11: 10047 | G11: 10095 | H11: 10038 | I11: 10114 | J11: 10094 | K11: 10148 | L11: =IF(SUM(B11:K11)>0,AVERAGE(B11:K11)," ") -> 10130.5
A12: ='Pregnant Women Participating'!A12 -> Vermont | B12: 6527 | C12: 6445 | D12: 6459 | E12: 6468 | F12: 6422 | G12: 6478 | H12: 6483 | I12: 6486 | J12: 6515 | K12: 6550 | L12: =IF(SUM(B12:K12)>0,AVERAGE(B12:K12)," ") -> 6483.3
A13: ='Pregnant Women Participating'!A13 -> Virgin Islands | B13: 1273 | C13: 1250 | D13: 1252 | E13: 1261 | F13: 1209 | G13: 1169 | H13: 1158 | I13: 1113 | J13: 1105 | K13: 0 | L13: =IF(SUM(B13:K13)>0,AVERAGE(B13:K13)," ") -> 1079
A14: ='Pregnant Women Participating'!A14 -> Pleasant Point, ME | B14: 20 | C14: 20 | D14: 18 | E14: 19 | F14: 17 | G14: 18 | H14: 18 | I14: 19 | J14: 21 | K14: 0 | L14: =IF(SUM(B14:K14)>0,AVERAGE(B14:K14)," ") -> 17
A15: ='Pregnant Women Participating'!A15 -> Northeast Region | B15: 415366 | C15: 412964 | D15: 413650 | E15: 416060 | F15: 414798 | G15: 418190 | H15: 418936 | I15: 419040 | J15: 417617 | K15: 415398 | L15: =IF(SUM(B15:K15)>0,AVERAGE(B15:K15)," ") -> 416201.9
A16: ='Pregnant Women Participating'!A16 -> Delaware | B16: 14254 | C16: 14199 | D16: 14164 | E16: 14130 | F16: 14172 | G16: 14227 | H16: 14130 | I16: 13963 | J16: 14040 | K16: 14134 | L16: =IF(SUM(B16:K16)>0,AVERAGE(B16:K16)," ") -> 14141.3
A17: ='Pregnant Women Participating'!A17 -> District of Columbia | B17: 6495 | C17: 6483 | D17: 6338 | E17: 6349 | F17: 6225 | G17: 6232 | H17: 6258 | I17: 6238 | J17: 6240 | K17: 6325 | L17: =IF(SUM(B17:K17)>0,AVERAGE(B17:K17)," ") -> 6318.3
... A101: ='Pregnant Women Participating'!A101 -> TOTAL | B101: 3899903 | C101: 3850763 | D101: 3825546 | E101: 3821219 | F101: 3808800 | G101: 3825815 | H101: 3825855 | I101: 3824773 | J101: 3824550 | K101: 3824709 | L101: =IF(SUM(B101:K101)>0,AVERAGE(B101:K101)," ") -> 3833193.3
A104: All data are preliminary and are subject to revision.

Sheet Total Number of Participants
A1: WIC PROGRAM -- TOTAL NUMBER OF PARTICIPANTS
A2: ='Pregnant Women Participating'!A2 -> FISCAL YEAR 2026
A3: ='Pregnant Women Participating'!A3 -> Data as of October 09, 2026
A5: State Agency or Indian Tribal Organization | B5: =DATE(RIGHT(A2,4)-1,10,1) -> 45931 | C5: =DATE(RIGHT(A2,4)-1,11,1) -> 45962 | D5: =DATE(RIGHT(A2,4)-1,12,1) -> 45992 | E5: =DATE(RIGHT(A2,4),1,1) -> 46023 | F5: =DATE(RIGHT(A2,4),2,1) -> 46054 | G5: =DATE(RIGHT(A2,4),3,1) -> 46082 | H5: =DATE(RIGHT(A2,4),4,1) -> 46113 | I5: =DATE(RIGHT(A2,4),5,1) -> 46143 | J5: =DATE(RIGHT(A2,4),6,1) -> 46174 | K5: =DATE(RIGHT(A2,4),7,1) -> 46204 | L5: Average Participation
A6: ='Pregnant Women Participating'!A6 -> Connecticut | B6: 53325 | C6: 52329 | D6: 51932 | E6: 51477 | F6: 50615 | G6: 50952 | H6: 50892 | I6: 50674 | J6: 50452 | K6: 50117 | L6: =IF(SUM(B6:K6)>0,AVERAGE(B6:K6)," ") -> 51276.5
A7: ='Pregnant Women Participating'!A7 -> Maine | B7: 19307 | C7: 18969 | D7: 18717 | E7: 18810 | F7: 18615 | G7: 18745 | H7: 18846 | I7: 18824 | J7: 18815 | K7: 18827 | L7: =IF(SUM(B7:K7)>0,AVERAGE(B7:K7)," ") -> 18847.5
A8: ='Pregnant Women Participating'!A8 -> Massachusetts | B8: 119374 | C8: 117547 | D8: 116604 | E8: 116473 | F8: 115698 | G8: 116680 | H8: 116743 | I8: 116378 | J8: 116015 | K8: 115774 | L8: =IF(SUM(B8:K8)>0,AVERAGE(B8:K8)," ") -> 116728.6
A9: ='Pregnant Women Participating'!A9 -> New Hampshire | B9: 12275 | C9: 12035 | D9: 12111 | E9: 12131 | F9: 11933 | G9: 12338 | H9: 12579 | I9: 12606 | J9: 12522 | K9: 12714 | L9: =IF(SUM(B9:K9)>0,AVERAGE(B9:K9)," ") -> 12324.4
A10: ='Pregnant Women Participating'!A10 -> New York | B10: 462325 | C10: 457535 | D10: 457883 | E10: 459999 | F10: 458318 | G10: 463188 | H10: 464070 | I10: 463643 | J10: 462514 | K10: 462131 | L10: =IF(SUM(B10:K10)>0,AVERAGE(B10:K10)," ") -> 461160.6
A11: ='Pregnant Women Participating'!A11 -> Rhode Island | B11: 18002 | C11: 17458 | D11: 17365 | E11: 17607 | F11: 17172 | G11: 17303 | H11: 17227 | I11: 17298 | J11: 17216 | K11: 17316 | L11: =IF(SUM(B11:K11)>0,AVERAGE(B11:K11)," ") -> 17396.4
A12: ='Pregnant Women Participating'!A12 -> Vermont | B12: 10521 | C12: 10434 | D12: 10479 | E12: 10497 | F12: 10467 | G12: 10576 | H12: 10631 | I12: 10616 | J12: 10685 | K12: 10759 | L12: =IF(SUM(B12:K12)>0,AVERAGE(B12:K12)," ") -> 10566.5
A13: ='Pregnant Women Participating'!A13 -> Virgin Islands | B13: 2369 | C13: 2354 | D13: 2307 | E13: 2307 | F13: 2214 | G13: 2172 | H13: 2152 | I13: 2084 | J13: 2138 | K13: 0 | L13: =IF(SUM(B13:K13)>0,AVERAGE(B13:K13)," ") -> 2009.7
A14: ='Pregnant Women Participating'!A14 -> Pleasant Point, ME | B14: 37 | C14: 41 | D14: 40 | E14: 44 | F14: 38 | G14: 44 | H14: 41 | I14: 43 | J14: 41 | K14: 0 | L14: =IF(SUM(B14:K14)>0,AVERAGE(B14:K14)," ") -> 36.9
A15: ='Pregnant Women Participating'!A15 -> Northeast Region | B15: 697535 | C15: 688702 | D15: 687438 | E15: 689345 | F15: 685070 | G15: 691998 | H15: 693181 | I15: 692166 | J15: 690398 | K15: 687638 | L15: =IF(SUM(B15:K15)>0,AVERAGE(B15:K15)," ") -> 690347.1
A16: ='Pregnant Women Participating'!A16 -> Delaware | B16: 23829 | C16: 23604 | D16: 23681 | E16: 23640 | F16: 23542 | G16: 23671 | H16: 23523 | I16: 23316 | J16: 23500 | K16: 23773 | L16: =IF(SUM(B16:K16)>0,AVERAGE(B16:K16)," ") -> 23607.9
A17: ='Pregnant Women Participating'!A17 -> District of Columbia | B17: 12064 | C17: 11892 | D17: 11796 | E17: 11739 | F17: 11596 | G17: 11667 | H17: 11709 | I17: 11692 | J17: 11641 | K17: 11784 | L17: =IF(SUM(B17:K17)>0,AVERAGE(B17:K17)," ") -> 11758
... A101: ='Pregnant Women Participating'!A101 -> TOTAL | B101: 6909857 | C101: 6771634 | D101: 6712498 | E101: 6696212 | F101: 6664658 | G101: 6702960 | H101: 6708434 | I101: 6688260 | J101: 6688872 | K101: 6694982 | L101: =IF(SUM(B101:K101)>0,AVERAGE(B101:K101)," ") -> 6723836.7
A104: All data are preliminary and are subject to revision.

Sheet Average Food Cost Per Person
A1: WIC PROGRAM -- AVERAGE FOOD COST PER PERSON
A2: ='Pregnant Women Participating'!A2 -> FISCAL YEAR 2026
A3: ='Pregnant Women Participating'!A3 -> Data as of October 09, 2026
A5: State Agency or Indian Tribal Organization | B5: =DATE(RIGHT(A2,4)-1,10,1) -> 45931 | C5: =DATE(RIGHT(A2,4)-1,11,1) -> 45962 | D5: =DATE(RIGHT(A2,4)-1,12,1) -> 45992 | E5: =DATE(RIGHT(A2,4),1,1) -> 46023 | F5: =DATE(RIGHT(A2,4),2,1) -> 46054 | G5: =DATE(RIGHT(A2,4),3,1) -> 46082 | H5: =DATE(RIGHT(A2,4),4,1) -> 46113 | I5: =DATE(RIGHT(A2,4),5,1) -> 46143 | J5: =DATE(RIGHT(A2,4),6,1) -> 46174 | K5: =DATE(RIGHT(A2,4),7,1) -> 46204 | L5: Cumulative Average
A6: ='Pregnant Women Participating'!A6 -> Connecticut | B6: 42.7694 | C6: 54.9685 | D6: 82.8843 | E6: 62.1486 | F6: 50.6737 | G6: 62.8306 | H6: 60.7804 | I6: 61.3642 | J6: 59.754 | K6: 62.127 | L6: =IF(SUM('Average Food Cost Per Person'!B6:K6)>0,'Food Costs'!L6/SUM('Total Number of Participants'!B6:K6)," ") -> 59.984634
A7: ='Pregnant Women Participating'!A7 -> Maine | B7: 54.4651 | C7: 52.0197 | D7: 51.2563 | E7: 56.9307 | F7: 47.3582 | G7: 55.3562 | H7: 53.9164 | I7: 61.7465 | J7: 58.3157 | K7: 57.4868 | L7: =IF(SUM('Average Food Cost Per Person'!B7:K7)>0,'Food Costs'!L7/SUM('Total Number of Participants'!B7:K7)," ") -> 54.891704
A8: ='Pregnant Women Participating'!A8 -> Massachusetts | B8: 37.8769 | C8: 73.3521 | D8: 55.7737 | E8: 58.1371 | F8: 54.9779 | G8: 55.8993 | H8: 57.6786 | I8: 56.4837 | J8: 56.7083 | K8: 58.3167 | L8: =IF(SUM('Average Food Cost Per Person'!B8:K8)>0,'Food Costs'!L8/SUM('Total Number of Participants'!B8:K8)," ") -> 56.489542
A9: ='Pregnant Women Participating'!A9 -> New Hampshire | B9: 50.2653 | C9: 45.9182 | D9: 45.121 | E9: 48.9811 | F9: 45.4602 | G9: 46.2509 | H9: 50.0846 | I9: 47.6952 | J9: 49.0714 | K9: 46.633 | L9: =IF(SUM('Average Food Cost Per Person'!B9:K9)>0,'Food Costs'!L9/SUM('Total Number of Participants'!B9:K9)," ") -> 47.564417
A10: ='Pregnant Women Participating'!A10 -> New York | B10: 77.5747 | C10: 75.2125 | D10: 75.1956 | E10: 78.0914 | F10: 73.8927 | G10: 73.2129 | H10: 65.9576 | I10: 73.3227 | J10: 73.559 | K10: 72.6258 | L10: =IF(SUM('Average Food Cost Per Person'!B10:K10)>0,'Food Costs'!L10/SUM('Total Number of Participants'!B10:K10)," ") -> 73.85641
A11: ='Pregnant Women Participating'!A11 -> Rhode Island | B11: 14.6132 | C11: 58.1693 | D11: 83.8867 | E11: 66.3963 | F11: 82.8374 | G11: 59.1899 | H11: 60.5945 | I11: 64.0536 | J11: 61.0479 | K11: 65.0497 | L11: =IF(SUM('Average Food Cost Per Person'!B11:K11)>0,'Food Costs'!L11/SUM('Total Number of Participants'!B11:K11)," ") -> 61.393317
A12: ='Pregnant Women Participating'!A12 -> Vermont | B12: 42.7422 | C12: 53.8392 | D12: 68.2922 | E12: 57.9529 | F12: 55.6536 | G12: 58.0841 | H12: 58.8239 | I12: 60.1922 | J12: 59.6163 | K12: 59.2062 | L12: =IF(SUM('Average Food Cost Per Person'!B12:K12)>0,'Food Costs'!L12/SUM('Total Number of Participants'!B12:K12)," ") -> 57.451332
A13: ='Pregnant Women Participating'!A13 -> Virgin Islands | B13: 69.2545 | C13: 106.367 | D13: 90.4313 | E13: 93.5427 | F13: 109.9336 | G13: 71.6146 | H13: 94.3857 | I13: 92.5379 | J13: 180.8363 | L13: =IF(SUM('Average Food Cost Per Person'!B13:K13)>0,'Food Costs'!L13/SUM('Total Number of Participants'!B13:K13)," ") -> 116.43499
A14: ='Pregnant Women Participating'!A14 -> Pleasant Point, ME | B14: 82.7027 | C14: 51.2195 | D14: 77.525 | E14: 79.8864 | F14: 103.8684 | G14: 103.7955 | H14: 153.561 | I14: 146.4186 | J14: 153.561 | L14: =IF(SUM('Average Food Cost Per Person'!B14:K14)>0,'Food Costs'!L14/SUM('Total Number of Participants'!B14:K14)," ") -> 123.23577
A15: ='Pregnant Women Participating'!A15 -> Northeast Region | B15: 64.8216 | C15: 71.5553 | D15: 71.466 | E15: 71.8862 | F15: 67.8302 | G15: 67.9798 | H15: 63.4185 | I15: 68.4637 | J15: 68.6682 | K15: 68.6295 | L15: =IF(SUM('Average Food Cost Per Person'!B15:K15)>0,'Food Costs'!L15/SUM('Total Number of Participants'!B15:K15)," ") -> 68.463845
A16: ='Pregnant Women Participating'!A16 -> Delaware | B16: 52.4151 | C16: 50.1329 | D16: 51.2318 | E16: 54.1859 | F16: 48.5488 | G16: 49.8811 | H16: 51.8496 | I16: 50.8944 | J16: 52.7387 | K16: 52.3694 | L16: =IF(SUM('Average Food Cost Per Person'!B16:K16)>0,'Food Costs'!L16/SUM('Total Number of Participants'!B16:K16)," ") -> 51.427001
A17: ='Pregnant Women Participating'!A17 -> District of Columbia | B17: 83.0925 | C17: 11.4393 | D17: 80.0572 | E17: 56.3145 | F17: 70.4215 | G17: 23.35 | H17: 78.2601 | I17: 56.3091 | J17: 61.3058 | K17: 59.7034 | L17: =IF(SUM('Average Food Cost Per Person'!B17:K17)>0,'Food Costs'!L17/SUM('Total Number of Participants'!B17:K17)," ") -> 58.044293
A18: ='Pregnant Women Participating'!A18 -> Maryland | B18: 49.8293 | C18: 80.9744 | D18: 66.0351 | E18: 66.6483 | F18: 63.1972 | G18: 64.5033 | H18: 66.8056 | I18: 65.3433 | J18: 66.3285 | K18: 68.0752 | L18: =IF(SUM('Average Food Cost Per Person'!B18:K18)>0,'Food Costs'!L18/SUM('Total Number of Participants'!B18:K18)," ") -> 65.746811
A19: ='Pregnant Women Participating'!A19 -> New Jersey | B19: 77.4119 | C19: 82.1915 | D19: 81.3836 | E19: 83.0879 | F19: 78.9619 | G19: 79.2338 | H19: 82.3715 | I19: 80.5809 | J19: 80.004 | K19: 79.616 | L19: =IF(SUM('Average Food Cost Per Person'!B19:K19)>0,'Food Costs'!L19/SUM('Total Number of Participants'!B19:K19)," ") -> 80.480207
A20: ='Pregnant Women Participating'!A20 -> Pennsylvania | B20: 72.0656 | C20: 70.6777 | D20: 72.731 | E20: 74.0939 | F20: 72.0486 | G20: 73.0216 | H20: 71.9343 | I20: 74.5736 | J20: 75.1968 | K20: 72.3272 | L20: =IF(SUM('Average Food Cost Per Person'!B20:K20)>0,'Food Costs'!L20/SUM('Total Number of Participants'!B20:K20)," ") -> 72.85816
A21: ='Pregnant Women Participating'!A21 -> Puerto Rico | B21: 158.5338 | C21: 153.1736 | D21: 155.3537 | E21: 155.7362 | F21: 156.2126 | G21: 158.962 | H21: 159.451 | I21: 158.6898 | J21: 160.8819 | K21: 160.8753 | L21: =IF(SUM('Average Food Cost Per Person'!B21:K21)>0,'Food Costs'!L21/SUM('Total Number of Participants'!B21:K21)," ") -> 157.80392
A22: ='Pregnant Women Participating'!A22 -> Virginia | B22: 34.1102 | C22: 51.644 | D22: 56.1278 | E22: 55.2736 | F22: 75.1695 | G22: 53.6576 | H22: 58.9183 | I22: 57.5198 | J22: 56.2179 | K22: 55.4863 | L22: =IF(SUM('Average Food Cost Per Person'!B22:K22)>0,'Food Costs'!L22/SUM('Total Number of Participants'!B22:K22)," ") -> 55.2564
A23: ='Pregnant Women Participating'!A23 -> West Virginia | B23: 52.3652 | C23: 63.227 | D23: 83.6823 | E23: 66.3921 | F23: 61.6994 | G23: 62.1806 | H23: 59.9789 | I23: 59.9801 | J23: 59.9813 | K23: 59.9824 | L23: =IF(SUM('Average Food Cost Per Person'!B23:K23)>0,'Food Costs'!L23/SUM('Total Number of Participants'!B23:K23)," ") -> 62.929657
A24: ='Pregnant Women Participating'!A24 -> Mid-Atlantic Region | B24: 73.1608 | C24: 80.2477 | D24: 81.2847 | E24: 80.9847 | F24: 81.756 | G24: 78.9352 | H24: 81.462 | I24: 80.8134 | J24: 81.2527 | K24: 80.5408 | L24: =IF(SUM('Average Food Cost Per Person'!B24:K24)>0,'Food Costs'!L24/SUM('Total Number of Participants'!B24:K24)," ") -> 80.019464
A25: ='Pregnant Women Participating'!A25 -> Alabama | B25: 27.3161 | C25: 71.9591 | D25: 70.5199 | E25: 60.761 | F25: 51.8584 | G25: 62.3416 | H25: 61.1126 | I25: 52.5821 | J25: 65.5303 | K25: 64.0451 | L25: =IF(SUM('Average Food Cost Per Person'!B25:K25)>0,'Food Costs'!L25/SUM('Total Number of Participants'!B25:K25)," ") -> 58.698577
A26: ='Pregnant Women Participating'!A26 -> Florida | B26: 52.5905 | C26: 67.3564 | D26: 62.871 | E26: 64.616 | F26: 61.4362 | G26: 71.7663 | H26: 66.8866 | I26: 62.7826 | J26: 58.3224 | K26: 69.4949 | L26: =IF(SUM('Average Food Cost Per Person'!B26:K26)>0,'Food Costs'!L26/SUM('Total Number of Participants'!B26:K26)," ") -> 63.735564
... A101: ='Pregnant Women Participating'!A101 -> TOTAL | B101: 49.6481 | C101: 64.2083 | D101: 65.3097 | E101: 66.638 | F101: 61.2708 | G101: 63.5292 | H101: 62.9697 | I101: 63.2308 | J101: 64.25 | K101: 71.5285 | L101: =IF(SUM('Average Food Cost Per Person'!B101:K101)>0,'Food Costs'!L101/SUM('Total Number of Participants'!B101:K101)," ") -> 63.217273
A104: All data are preliminary and are subject to revision.

Sheet Food Costs
A1: WIC PROGRAM -- FOOD COSTS
A2: ='Pregnant Women Participating'!A2 -> FISCAL YEAR 2026
A3: ='Pregnant Women Participating'!A3 -> Data as of October 09, 2026
A5: State Agency or Indian Tribal Organization | B5: =DATE(RIGHT(A2,4)-1,10,1) -> 45931 | C5: =DATE(RIGHT(A2,4)-1,11,1) -> 45962 | D5: =DATE(RIGHT(A2,4)-1,12,1) -> 45992 | E5: =DATE(RIGHT(A2,4),1,1) -> 46023 | F5: =DATE(RIGHT(A2,4),2,1) -> 46054 | G5: =DATE(RIGHT(A2,4),3,1) -> 46082 | H5: =DATE(RIGHT(A2,4),4,1) -> 46113 | I5: =DATE(RIGHT(A2,4),5,1) -> 46143 | J5: =DATE(RIGHT(A2,4),6,1) -> 46174 | K5: =DATE(RIGHT(A2,4),7,1) -> 46204 | L5: Cumulative Cost
A6: ='Pregnant Women Participating'!A6 -> Connecticut | B6: 2280677 | C6: 2876447 | D6: 4304350 | E6: 3199226 | F6: 2564848 | G6: 3201344 | H6: 3093236 | I6: 3109569 | J6: 3014707 | K6: 3113617 | L6: =IF(SUM(B6:K6)>0,SUM(B6:K6)," ") -> 30758021
A7: ='Pregnant Women Participating'!A7 -> Maine | B7: 1051558 | C7: 986762 | D7: 959365 | E7: 1070866 | F7: 881572 | G7: 1037652 | H7: 1016108 | I7: 1162317 | J7: 1097210 | K7: 1082304 | L7: =IF(SUM(B7:K7)>0,SUM(B7:K7)," ") -> 10345714
A8: ='Pregnant Women Participating'!A8 -> Massachusetts | B8: 4521515 | C8: 8622322 | D8: 6503442 | E8: 6771405 | F8: 6360832 | G8: 6522326 | H8: 6733574 | I8: 6573465 | J8: 6579015 | K8: 6751555 | L8: =IF(SUM(B8:K8)>0,SUM(B8:K8)," ") -> 65939451
A9: ='Pregnant Women Participating'!A9 -> New Hampshire | B9: 617007 | C9: 552626 | D9: 546461 | E9: 594190 | F9: 542477 | G9: 570644 | H9: 630014 | I9: 601246 | J9: 614472 | K9: 592892 | L9: =IF(SUM(B9:K9)>0,SUM(B9:K9)," ") -> 5862029
A10: ='Pregnant Women Participating'!A10 -> New York | B10: 35864727 | C10: 34412329 | D10: 34430776 | E10: 35921987 | F10: 33866344 | G10: 33911319 | H10: 30608946 | I10: 33995534 | J10: 34022064 | K10: 33562638 | L10: =IF(SUM(B10:K10)>0,SUM(B10:K10)," ") -> 340596664
A11: ='Pregnant Women Participating'!A11 -> Rhode Island | B11: 263067 | C11: 1015519 | D11: 1456693 | E11: 1169040 | F11: 1422483 | G11: 1024163 | H11: 1043862 | I11: 1108000 | J11: 1051000 | K11: 1126400 | L11: =IF(SUM(B11:K11)>0,SUM(B11:K11)," ") -> 10680227
A12: ='Pregnant Women Participating'!A12 -> Vermont | B12: 449691 | C12: 561758 | D12: 715634 | E12: 608332 | F12: 582526 | G12: 614297 | H12: 625357 | I12: 639000 | J12: 637000 | K12: 637000 | L12: =IF(SUM(B12:K12)>0,SUM(B12:K12)," ") -> 6070595
A13: ='Pregnant Women Participating'!A13 -> Virgin Islands | B13: 164064 | C13: 250388 | D13: 208625 | E13: 215803 | F13: 243393 | G13: 155547 | H13: 203118 | I13: 192849 | J13: 386628 | K13: 319579 | L13: =IF(SUM(B13:K13)>0,SUM(B13:K13)," ") -> 2339994
A14: ='Pregnant Women Participating'!A14 -> Pleasant Point, ME | B14: 3060 | C14: 2100 | D14: 3101 | E14: 3515 | F14: 3947 | G14: 4567 | H14: 6296 | I14: 6296 | J14: 6296 | K14: 6296 | L14: =IF(SUM(B14:K14)>0,SUM(B14:K14)," ") -> 45474
A15: ='Pregnant Women Participating'!A15 -> Northeast Region | B15: 45215366 | C15: 49280251 | D15: 49128447 | E15: 49554364 | F15: 46468422 | G15: 47041859 | H15: 43960511 | I15: 47388276 | J15: 47408392 | K15: 47192281 | L15: =IF(SUM(B15:K15)>0,SUM(B15:K15)," ") -> 472638169
A16: ='Pregnant Women Participating'!A16 -> Delaware | B16: 1249000 | C16: 1183337 | D16: 1213221 | E16: 1280955 | F16: 1142937 | G16: 1180735 | H16: 1219659 | I16: 1186654 | J16: 1239360 | K16: 1244977 | L16: =IF(SUM(B16:K16)>0,SUM(B16:K16)," ") -> 12140835
A17: ='Pregnant Women Participating'!A17 -> District of Columbia | B17: 1002428 | C17: 136036 | D17: 944355 | E17: 661076 | F17: 816608 | G17: 272425 | H17: 916348 | I17: 658366 | J17: 713661 | K17: 703545 | L17: =IF(SUM(B17:K17)>0,SUM(B17:K17)," ") -> 6824848
... A101: ='Pregnant Women Participating'!A101 -> TOTAL | B101: 343061329 | C101: 434794780 | D101: 438390920 | E101: 446222146 | F101: 408348847 | G101: 425833956 | H101: 422428284 | I101: 422903987 | J101: 429760070 | K101: 478881862 | L101: =IF(SUM(B101:K101)>0,SUM(B101:K101)," ") -> 4250626181
A104: All data are preliminary and are subject to revision.

Sheet Rebates Received
A1: WIC PROGRAM -- REBATES RECEIVED
A2: ='Pregnant Women Participating'!A2 -> FISCAL YEAR 2026
A3: ='Pregnant Women Participating'!A3 -> Data as of October 09, 2026
A5: State Agency or Indian Tribal Organization | B5: =DATE(RIGHT(A2,4)-1,10,1) -> 45931 | C5: =DATE(RIGHT(A2,4)-1,11,1) -> 45962 | D5: =DATE(RIGHT(A2,4)-1,12,1) -> 45992 | E5: =DATE(RIGHT(A2,4),1,1) -> 46023 | F5: =DATE(RIGHT(A2,4),2,1) -> 46054 | G5: =DATE(RIGHT(A2,4),3,1) -> 46082 | H5: =DATE(RIGHT(A2,4),4,1) -> 46113 | I5: =DATE(RIGHT(A2,4),5,1) -> 46143 | J5: =DATE(RIGHT(A2,4),6,1) -> 46174 | K5: =DATE(RIGHT(A2,4),7,1) -> 46204 | L5: Cumulative Cost
A6: ='Pregnant Women Participating'!A6 -> Connecticut | B6: 2317130 | C6: 1225552 | D6: 0 | E6: 1092555 | F6: 1163915 | G6: 1137210 | H6: 1004285 | I6: 1175715 | J6: 1071974 | K6: 1190662 | L6: =IF(SUM(B6:K6)>0,SUM(B6:K6)," ") -> 11378998
A7: ='Pregnant Women Participating'!A7 -> Maine | B7: 351460 | C7: 346704 | D7: 364792 | E7: 330241 | F7: 343794 | G7: 373336 | H7: 314772 | I7: 351516 | J7: 326026 | K7: 371322 | L7: =IF(SUM(B7:K7)>0,SUM(B7:K7)," ") -> 3473963
A8: ='Pregnant Women Participating'!A8 -> Massachusetts | B8: 4716967 | C8: 0 | D8: 2451912 | E8: 2243693 | F8: 2308390 | G8: 2281304 | H8: 2062000 | I8: 2321841 | J8: 2159862 | K8: 2402259 | L8: =IF(SUM(B8:K8)>0,SUM(B8:K8)," ") -> 22948228
A9: ='Pregnant Women Participating'!A9 -> New Hampshire | B9: 204398 | C9: 199374 | D9: 226812 | E9: 182672 | F9: 208944 | G9: 208670 | H9: 178966 | I9: 224085 | J9: 192731 | K9: 228054 | L9: =IF(SUM(B9:K9)>0,SUM(B9:K9)," ") -> 2054706
A10: ='Pregnant Women Participating'!A10 -> New York | B10: 9219835 | C10: 9256627 | D10: 9747156 | E10: 8597120 | F10: 9322196 | G10: 9225689 | H10: 8428977 | I10: 9634957 | J10: 8803752 | K10: 9066624 | L10: =IF(SUM(B10:K10)>0,SUM(B10:K10)," ") -> 91302933
A11: ='Pregnant Women Participating'!A11 -> Rhode Island | B11: 1266070 | C11: 451654 | D11: 0 | E11: 384376 | F11: 0 | G11: 425084 | H11: 407811 | I11: 369512 | J11: 426657 | K11: 378645 | L11: =IF(SUM(B11:K11)>0,SUM(B11:K11)," ") -> 4109809
A12: ='Pregnant Women Participating'!A12 -> Vermont | B12: 280980 | C12: 145664 | E12: 139812 | F12: 142983 | G12: 142901 | H12: 137446 | I12: 144982 | J12: 144807 | K12: 156687 | L12: =IF(SUM(B12:K12)>0,SUM(B12:K12)," ") -> 1436262
A13: ='Pregnant Women Participating'!A13 -> Virgin Islands | B13: 92696 | C13: 0 | D13: 43221 | E13: 39761 | F13: 0 | G13: 90130 | H13: 39665 | I13: 46672 | J13: 0 | L13: =IF(SUM(B13:K13)>0,SUM(B13:K13)," ") -> 352145
A14: ='Pregnant Women Participating'!A14 -> Pleasant Point, ME | B14: 0 | L14: =IF(SUM(B14:K14)>0,SUM(B14:K14)," ")
A15: ='Pregnant Women Participating'!A15 -> Northeast Region | B15: 18449536 | C15: 11625575 | D15: 12833893 | E15: 13010230 | F15: 13490222 | G15: 13884324 | H15: 12573922 | I15: 14269280 | J15: 13125809 | K15: 13794253 | L15: =IF(SUM(B15:K15)>0,SUM(B15:K15)," ") -> 137057044
